BEGIN:VCALENDAR
VERSION:2.0
PRODID:-//Luchon - ECPv6.15.20//NONSGML v1.0//EN
CALSCALE:GREGORIAN
METHOD:PUBLISH
X-WR-CALNAME:Luchon
X-ORIGINAL-URL:https://www.mairie-luchon.fr
X-WR-CALDESC:Évènements pour Luchon
REFRESH-INTERVAL;VALUE=DURATION:PT1H
X-Robots-Tag:noindex
X-PUBLISHED-TTL:PT1H
BEGIN:VTIMEZONE
TZID:Europe/Paris
BEGIN:DAYLIGHT
TZOFFSETFROM:+0100
TZOFFSETTO:+0200
TZNAME:CEST
DTSTART:20250330T010000
END:DAYLIGHT
BEGIN:STANDARD
TZOFFSETFROM:+0200
TZOFFSETTO:+0100
TZNAME:CET
DTSTART:20251026T010000
END:STANDARD
BEGIN:DAYLIGHT
TZOFFSETFROM:+0100
TZOFFSETTO:+0200
TZNAME:CEST
DTSTART:20260329T010000
END:DAYLIGHT
BEGIN:STANDARD
TZOFFSETFROM:+0200
TZOFFSETTO:+0100
TZNAME:CET
DTSTART:20261025T010000
END:STANDARD
BEGIN:DAYLIGHT
TZOFFSETFROM:+0100
TZOFFSETTO:+0200
TZNAME:CEST
DTSTART:20270328T010000
END:DAYLIGHT
BEGIN:STANDARD
TZOFFSETFROM:+0200
TZOFFSETTO:+0100
TZNAME:CET
DTSTART:20271031T010000
END:STANDARD
END:VTIMEZONE
BEGIN:VEVENT
DTSTART;TZID=Europe/Paris:20260420T090000
DTEND;TZID=Europe/Paris:20260420T120000
DTSTAMP:20260420T020444
CREATED:20260324T090054Z
LAST-MODIFIED:20260324T090054Z
UID:17056-1776675600-1776686400@www.mairie-luchon.fr
SUMMARY:MUSCULATION SANTÉ
DESCRIPTION:Cardio-training et renforcement musculaire : venez améliorer votre capital santé.\nInscriptions au Bureau des Sports  – Tél : 05 61 94 68 75 – places limitées -Tarif 5€
URL:https://www.mairie-luchon.fr/event/musculation-sante-12/
LOCATION:Salle Clément Ader\, Place Léon Elissalde\, Bagnères-de-Luchon\, 31110\, France
CATEGORIES:Sport
ATTACH;FMTTYPE=image/png:https://www.mairie-luchon.fr/wp-content/uploads/2026/03/Visuels-avril-9-Musculation.png
END:VEVENT
BEGIN:VEVENT
DTSTART;TZID=Europe/Paris:20260420T100000
DTEND;TZID=Europe/Paris:20260420T163000
DTSTAMP:20260420T020444
CREATED:20260324T090559Z
LAST-MODIFIED:20260324T090559Z
UID:17059-1776679200-1776702600@www.mairie-luchon.fr
SUMMARY:JARDIN AQUATIQUE
DESCRIPTION:Dans un bassin chauffé\, aménagé avec du matériel ludique : Toboggan\, tunnel\, tapis flottant et bien plus encore !\n(Présence d’un adulte obligatoire – Bonnet de bain). De 10h à 11h30 et de 15h à 16h30\nInscriptions au bureau des sports – Tél : 05 61 94 68 75 – Places limitées – Tarif : 5 €
URL:https://www.mairie-luchon.fr/event/jardin-aquatique-67/
LOCATION:Bassin Chambert\, Cours des Quinconces\, Bagnères-de-Luchon\, 31110\, France
CATEGORIES:Enfant,Sport
ATTACH;FMTTYPE=image/png:https://www.mairie-luchon.fr/wp-content/uploads/2026/03/Visuels-avril-10-Jardin-aquatique.png
END:VEVENT
BEGIN:VEVENT
DTSTART;TZID=Europe/Paris:20260420T180000
DTEND;TZID=Europe/Paris:20260420T190000
DTSTAMP:20260420T020444
CREATED:20260324T091429Z
LAST-MODIFIED:20260324T091429Z
UID:17062-1776708000-1776711600@www.mairie-luchon.fr
SUMMARY:SOPHRO-RELAXATION
DESCRIPTION:Offrez-vous une parenthèse afin de vous détendre et de vous recentrer.\nMarion propose une alliance entre le Yoga\, la relaxation et la sophrologie. \nInscriptions service des sports – Tél : 05 61 94 68 75 – Places limitées – Tarif : 5 €
URL:https://www.mairie-luchon.fr/event/sophro-relaxation-20/
LOCATION:Salle Municipale des Sports\, 23 Allée d'Étigny\, Bagnères-de-Luchon\, 31110\, France
CATEGORIES:Sport
ATTACH;FMTTYPE=image/png:https://www.mairie-luchon.fr/wp-content/uploads/2026/03/Visuels-avril-11-Sophrologie.png
END:VEVENT
BEGIN:VEVENT
DTSTART;TZID=Europe/Paris:20260420T203000
DTEND;TZID=Europe/Paris:20260420T220000
DTSTAMP:20260420T020444
CREATED:20260417T070343Z
LAST-MODIFIED:20260417T070343Z
UID:17321-1776717000-1776722400@www.mairie-luchon.fr
SUMMARY:Vol au-dessus d'un nid de coucou de Milos Forman
DESCRIPTION:Séance présentée par Jean-Paul Durand\, président de Cinévallée \nRésumé du film : \nPour échapper à la prison\, un détenu choisit de simuler la folie. L’humour de Forman enflamme une allégorie sur l’oppression\, la rébellion et la quête de liberté\, qui met en valeur un héros anticonformiste avec un Jack Nicholson\, éblouissant !\nUne fable magnifique\, chargée d’humanité et d’émotion\, cinq fois récompensée aux Oscars. \nTarif : 7 € ou carte du cinéma
URL:https://www.mairie-luchon.fr/event/vol-au-dessus-dun-nid-de-coucou-de-milos-forman/
LOCATION:Cinéma REX
CATEGORIES:Culture
ATTACH;FMTTYPE=image/png:https://www.mairie-luchon.fr/wp-content/uploads/2026/04/Visuels-mai-13-Harpe.png
END:VEVENT
END:VCALENDAR