BEGIN:VCALENDAR
VERSION:2.0
PRODID:-//Luchon - ECPv6.15.20//NONSGML v1.0//EN
CALSCALE:GREGORIAN
METHOD:PUBLISH
X-WR-CALNAME:Luchon
X-ORIGINAL-URL:https://www.mairie-luchon.fr
X-WR-CALDESC:Évènements pour Luchon
REFRESH-INTERVAL;VALUE=DURATION:PT1H
X-Robots-Tag:noindex
X-PUBLISHED-TTL:PT1H
BEGIN:VTIMEZONE
TZID:Europe/Paris
BEGIN:DAYLIGHT
TZOFFSETFROM:+0100
TZOFFSETTO:+0200
TZNAME:CEST
DTSTART:20250330T010000
END:DAYLIGHT
BEGIN:STANDARD
TZOFFSETFROM:+0200
TZOFFSETTO:+0100
TZNAME:CET
DTSTART:20251026T010000
END:STANDARD
BEGIN:DAYLIGHT
TZOFFSETFROM:+0100
TZOFFSETTO:+0200
TZNAME:CEST
DTSTART:20260329T010000
END:DAYLIGHT
BEGIN:STANDARD
TZOFFSETFROM:+0200
TZOFFSETTO:+0100
TZNAME:CET
DTSTART:20261025T010000
END:STANDARD
BEGIN:DAYLIGHT
TZOFFSETFROM:+0100
TZOFFSETTO:+0200
TZNAME:CEST
DTSTART:20270328T010000
END:DAYLIGHT
BEGIN:STANDARD
TZOFFSETFROM:+0200
TZOFFSETTO:+0100
TZNAME:CET
DTSTART:20271031T010000
END:STANDARD
END:VTIMEZONE
BEGIN:VEVENT
DTSTART;TZID=Europe/Paris:20260426T180000
DTEND;TZID=Europe/Paris:20260426T200000
DTSTAMP:20260426T013909
CREATED:20260417T071207Z
LAST-MODIFIED:20260417T071207Z
UID:17326-1777226400-1777233600@www.mairie-luchon.fr
SUMMARY:Initiales BB\, une année avec Bertrand Burgalat
DESCRIPTION:Ciné-rencontre Initiales BB\, une année avec Bertrand Burgalat – Séance exceptionnelle du documentaire « Initiales BB\, une année avec Bertrand Burgalat »\, avec la présence de Bertrand Burgalat. \nRésumé du film :\nInitiales BB\, premier documentaire consacré à Bertrand Burgalat\, retrace un an de la vie de cet homme qui a définitivement refusé de choisir entre toutes ses passions. Entre séquences d’enregistrement en studio\, témoignages et scènes de vie\, Initiales BB raconte l’histoire d’un musicien qui\, à force d’avoir perdu en combattant le système\, finit par gagner. Dans la lignée des « derniers grands de la chanson » comme Christophe\, Daho ou Gainsbourg avant lui\, Burgalat s’est imposé comme un personnage clé de la musique française.\nInitiales BB raconte ce voyage original ; un éloge de l’indépendance et de la capacité de résistance des petits face aux puissants. \nTarif : 7 € ou carte du cinéma
URL:https://www.mairie-luchon.fr/event/initiales-bb-une-annee-avec-bertrand-burgalat/
LOCATION:Cinéma REX
CATEGORIES:Culture
ATTACH;FMTTYPE=image/png:https://www.mairie-luchon.fr/wp-content/uploads/2026/04/Visuels-mai-12-Harpe.png
END:VEVENT
END:VCALENDAR