BEGIN:VCALENDAR
VERSION:2.0
PRODID:-//Luchon - ECPv6.15.20//NONSGML v1.0//EN
CALSCALE:GREGORIAN
METHOD:PUBLISH
X-WR-CALNAME:Luchon
X-ORIGINAL-URL:https://www.mairie-luchon.fr
X-WR-CALDESC:Évènements pour Luchon
REFRESH-INTERVAL;VALUE=DURATION:PT1H
X-Robots-Tag:noindex
X-PUBLISHED-TTL:PT1H
BEGIN:VTIMEZONE
TZID:Europe/Paris
BEGIN:DAYLIGHT
TZOFFSETFROM:+0100
TZOFFSETTO:+0200
TZNAME:CEST
DTSTART:20240331T010000
END:DAYLIGHT
BEGIN:STANDARD
TZOFFSETFROM:+0200
TZOFFSETTO:+0100
TZNAME:CET
DTSTART:20241027T010000
END:STANDARD
BEGIN:DAYLIGHT
TZOFFSETFROM:+0100
TZOFFSETTO:+0200
TZNAME:CEST
DTSTART:20250330T010000
END:DAYLIGHT
BEGIN:STANDARD
TZOFFSETFROM:+0200
TZOFFSETTO:+0100
TZNAME:CET
DTSTART:20251026T010000
END:STANDARD
BEGIN:DAYLIGHT
TZOFFSETFROM:+0100
TZOFFSETTO:+0200
TZNAME:CEST
DTSTART:20260329T010000
END:DAYLIGHT
BEGIN:STANDARD
TZOFFSETFROM:+0200
TZOFFSETTO:+0100
TZNAME:CET
DTSTART:20261025T010000
END:STANDARD
END:VTIMEZONE
BEGIN:VEVENT
DTSTART;TZID=Europe/Paris:20250920T170000
DTEND;TZID=Europe/Paris:20250920T183000
DTSTAMP:20260422T152252
CREATED:20250916T081714Z
LAST-MODIFIED:20250916T081714Z
UID:15804-1758387600-1758393000@www.mairie-luchon.fr
SUMMARY:Journées du Patrimoine : Conférence sur les 150 ans de la ligne Montréjeau–Luchon
DESCRIPTION:Dans le cadre des Journées Européennes du Patrimoine\, la Ville de Luchon vous invite à une conférence exceptionnelle retraçant l’histoire de la ligne ferroviaire Montréjeau–Luchon\, inaugurée en 1873 et véritable lien entre plaine et montagne. \nSamedi 20 septembre à 17h00Mairie de Luchon – Salle du Conseil municipal \nLa conférence sera animée par Alban Leymarie\, qui reviendra sur les 150 ans d’histoire de la ligne\, marqués par l’innovation de sa création\, son déclin progressif\, puis sa renaissance cette année avec la réouverture de la ligne. \nCet événement est une belle occasion de (re)découvrir l’importance de cette infrastructure pour le développement de Luchon\, de son tourisme et de ses échanges avec le reste du territoire. \nEntrée libre.
URL:https://www.mairie-luchon.fr/event/journees-du-patrimoine-conference-sur-les-150-ans-de-la-ligne-montrejeau-luchon/
LOCATION:mairie de Luchon\, 23 Allée d'Étigny\, Bagnères-de-Luchon\, 31110
CATEGORIES:Culture
ATTACH;FMTTYPE=image/jpeg:https://www.mairie-luchon.fr/wp-content/uploads/2025/09/LED_JEP_150ans_train.jpg
END:VEVENT
BEGIN:VEVENT
DTSTART;TZID=Europe/Paris:20250920T180000
DTEND;TZID=Europe/Paris:20250920T193000
DTSTAMP:20260422T152252
CREATED:20250826T085431Z
LAST-MODIFIED:20250826T085431Z
UID:15542-1758391200-1758396600@www.mairie-luchon.fr
SUMMARY:RENCONTRES JEUNES ÂGES
DESCRIPTION:A l’occasion du week-end de la Fête des fleurs des enfants\, le groupe folklorique des Fils de Luchon accueille deux autres groupes d’enfants : les Biroussans de Saint-Girons et les Pastourelles de Campan.\n18h00 : Défilé de la place du marché jusqu’aux thermes .\n18h30 : Spectacle des groupes folkloriques. \nRepli salle Henri Pac en cas de mauvais temps
URL:https://www.mairie-luchon.fr/event/rencontres-jeunes-ages/
LOCATION:Parc des Thermes
CATEGORIES:Culture
ATTACH;FMTTYPE=image/png:https://www.mairie-luchon.fr/wp-content/uploads/2025/08/Agenda-septembre-2025-12-rencontres-jeunes-ages.png
END:VEVENT
BEGIN:VEVENT
DTSTART;TZID=Europe/Paris:20250920T203000
DTEND;TZID=Europe/Paris:20250920T220000
DTSTAMP:20260422T152252
CREATED:20250724T080530Z
LAST-MODIFIED:20250908T065742Z
UID:15289-1758400200-1758405600@www.mairie-luchon.fr
SUMMARY:CONCERT ORGUE ERWAN LETERTRE
DESCRIPTION:Erwan Letertre\, né à Nantes en 1978\, est attiré par la musique dès son plus jeune âge et commence l’étude du piano à 11 ans. Menant ses études pianistiques avec Roselyne Béringer\, Erwan se passionne pour l’orgue dont il débute l’apprentissage dès 1992 auprès de Louis Yhuel\, organiste titulaire de la collégiale Saint-Aubin de Guérande. Entré à l’Institut Musical Européen de Besançon\, il obtient en 1999 le diplôme de Piano Supérieur 2ème Année à l’unanimité du Jury. Erwan Letertre est titulaire du Grand Orgue de Notre-Dame de l’Assomption de Bagnères-de-Luchon. \n  \nPlein tarif 10 €  – Tarif -18 ans : 5 € et -12 ans : gratuit \nTél  : 05 61 95 99 91 – 06 34 05 03 85      www.avocacol.com
URL:https://www.mairie-luchon.fr/event/concert-orgue-erwan-letertre/
LOCATION:Église de Luchon\, Bagnères de Luchon\, Haute-Garonne\, 31110\, France
CATEGORIES:Culture
ATTACH;FMTTYPE=image/png:https://www.mairie-luchon.fr/wp-content/uploads/2025/07/Agenda-aout-2025-28-concert-Orgue-Erwan-LETERTRE.png
END:VEVENT
END:VCALENDAR