BEGIN:VCALENDAR
VERSION:2.0
PRODID:-//Luchon - ECPv6.15.20//NONSGML v1.0//EN
CALSCALE:GREGORIAN
METHOD:PUBLISH
X-ORIGINAL-URL:https://www.mairie-luchon.fr
X-WR-CALDESC:Évènements pour Luchon
REFRESH-INTERVAL;VALUE=DURATION:PT1H
X-Robots-Tag:noindex
X-PUBLISHED-TTL:PT1H
BEGIN:VTIMEZONE
TZID:Europe/Paris
BEGIN:DAYLIGHT
TZOFFSETFROM:+0100
TZOFFSETTO:+0200
TZNAME:CEST
DTSTART:20240331T010000
END:DAYLIGHT
BEGIN:STANDARD
TZOFFSETFROM:+0200
TZOFFSETTO:+0100
TZNAME:CET
DTSTART:20241027T010000
END:STANDARD
BEGIN:DAYLIGHT
TZOFFSETFROM:+0100
TZOFFSETTO:+0200
TZNAME:CEST
DTSTART:20250330T010000
END:DAYLIGHT
BEGIN:STANDARD
TZOFFSETFROM:+0200
TZOFFSETTO:+0100
TZNAME:CET
DTSTART:20251026T010000
END:STANDARD
BEGIN:DAYLIGHT
TZOFFSETFROM:+0100
TZOFFSETTO:+0200
TZNAME:CEST
DTSTART:20260329T010000
END:DAYLIGHT
BEGIN:STANDARD
TZOFFSETFROM:+0200
TZOFFSETTO:+0100
TZNAME:CET
DTSTART:20261025T010000
END:STANDARD
END:VTIMEZONE
BEGIN:VEVENT
DTSTART;TZID=Europe/Paris:20250926T203000
DTEND;TZID=Europe/Paris:20250926T220000
DTSTAMP:20260420T183112
CREATED:20250826T094653Z
LAST-MODIFIED:20250826T094653Z
UID:15560-1758918600-1758924000@www.mairie-luchon.fr
SUMMARY:THEÂTRE "JE DE DAMES"
DESCRIPTION:« JE DE DAMES » d’après la pièce de Georges Berdot – Un petit théâtre\, quelque part… Entrons dans une de ces loges\, témoin de secrets féminins drôles\, pathétiques\, effrayants. De 1946 à nos jours\, artistes de cirque ou de music-hall y règlent leurs « contes ». Mise en scène par Marlène Canal et Christophe Rudelle. \nTél : 06 78 95 76 57    – Email : viaelmundo.vem@gmail.com
URL:https://www.mairie-luchon.fr/event/theatre-je-de-dames/
LOCATION:Théâtre du Casino\, 1 place Richelieu\, Bagnères-de-Luchon\, 31110\, France
CATEGORIES:Culture
ATTACH;FMTTYPE=image/png:https://www.mairie-luchon.fr/wp-content/uploads/2025/08/Agenda-septembre-2025-14-JE-DE-DAMES.png
ORGANIZER;CN="Compagnie la Catrina":MAILTO:viaelmundo.vem@gmail.com
END:VEVENT
END:VCALENDAR