BEGIN:VCALENDAR
VERSION:2.0
PRODID:-//Luchon - ECPv6.15.20//NONSGML v1.0//EN
CALSCALE:GREGORIAN
METHOD:PUBLISH
X-WR-CALNAME:Luchon
X-ORIGINAL-URL:https://www.mairie-luchon.fr
X-WR-CALDESC:Évènements pour Luchon
REFRESH-INTERVAL;VALUE=DURATION:PT1H
X-Robots-Tag:noindex
X-PUBLISHED-TTL:PT1H
BEGIN:VTIMEZONE
TZID:Europe/Paris
BEGIN:DAYLIGHT
TZOFFSETFROM:+0100
TZOFFSETTO:+0200
TZNAME:CEST
DTSTART:20240331T010000
END:DAYLIGHT
BEGIN:STANDARD
TZOFFSETFROM:+0200
TZOFFSETTO:+0100
TZNAME:CET
DTSTART:20241027T010000
END:STANDARD
BEGIN:DAYLIGHT
TZOFFSETFROM:+0100
TZOFFSETTO:+0200
TZNAME:CEST
DTSTART:20250330T010000
END:DAYLIGHT
BEGIN:STANDARD
TZOFFSETFROM:+0200
TZOFFSETTO:+0100
TZNAME:CET
DTSTART:20251026T010000
END:STANDARD
BEGIN:DAYLIGHT
TZOFFSETFROM:+0100
TZOFFSETTO:+0200
TZNAME:CEST
DTSTART:20260329T010000
END:DAYLIGHT
BEGIN:STANDARD
TZOFFSETFROM:+0200
TZOFFSETTO:+0100
TZNAME:CET
DTSTART:20261025T010000
END:STANDARD
END:VTIMEZONE
BEGIN:VEVENT
DTSTART;TZID=Europe/Paris:20251004T160000
DTEND;TZID=Europe/Paris:20251004T233000
DTSTAMP:20260420T041109
CREATED:20250924T123608Z
LAST-MODIFIED:20250924T123608Z
UID:15862-1759593600-1759620600@www.mairie-luchon.fr
SUMMARY:90 ANS DES FILS DE LUCHON
DESCRIPTION:En 1935\, la Sous-Préfecture de Saint-Gaudens a officiellement enregistré la création des « Fils de Luchon »\, ralliant le groupe des « Danseurs Luchonnais » présidé par Madame DASQUE et le groupe des Chanteurs dirigé par Monsieur VIVES.\nDès 16h\, des animations auront lieu au Square Lauret avec une remise de gerbe à 18h au Monument aux Morts.\nUne cérémonie religieuse en l’église Notre Dame de I’Assomption clôturera cette fin d’après-midi.
URL:https://www.mairie-luchon.fr/event/90-ans-des-fils-de-luchon/
LOCATION:Square Lauret\, 24 Allée d'Etigny\, Bagnères-de-Luchon\, 31110\, France
CATEGORIES:Culture
ATTACH;FMTTYPE=image/png:https://www.mairie-luchon.fr/wp-content/uploads/2025/09/Agenda-oct.-nov.-2025-2-90-ans-fils-de-Luchon.png
END:VEVENT
BEGIN:VEVENT
DTSTART;TZID=Europe/Paris:20251004T210000
DTEND;TZID=Europe/Paris:20251004T223000
DTSTAMP:20260420T041109
CREATED:20250910T091326Z
LAST-MODIFIED:20250912T122416Z
UID:15736-1759611600-1759617000@www.mairie-luchon.fr
SUMMARY:THEÂTRE :  UNE PETITE DOULEUR éligible au Pass Culture
DESCRIPTION:Une pièce d’Harold Pinter\, dramaturge britannique et prix Nobel de littérature en 2005 par la Compagnie de l’Emotion. C’est un jeu d’esprit brillant et étrange que l’auteur non conventionnel nous propose qui mêle l’absurde\, l’humour et le sentiment du tragique de l’existence.\nPar une somptueuse matinée d’été toute imprégnée des odeurs de fleurs\, Edouard et Flora prennent leur petit déjeuner. C’est le premier jour de l’été et tout semble devoir être agréable et heureux.\nPourtant une guêpe intruse se glisse dans le pot de confiture. Il faut la tuer… Cette belle journée commence par un meurtre.\nUne angoisse\, d’abord sourde\, puis de plus en plus violente\, assaille Edouard. Une petite douleur à l’œil sans conséquence semble la déclencher. Mais non\, ce n’est pas ce petit bobo qui le préoccupe mais bien la présence d’un marchand d’allumettes qui se tient depuis des semaines derrière la grille arrière de son jardin.\nQui est-il ? Que vient-il faire là ? Pourquoi vend-il des allumettes sur un chemin que personne n’emprunte ?\nHarold Pinter\, d’une situation quotidienne et banale\, crée un univers singulier à la fois comique et étrange. La logique d’Edouard dérape face au mutisme du vieil homme. Point d’issue pour cet intellectuel enfermé dans son monde clos et cadenassé. \nRéservation ticket unique à l’Office de Tourisme Pyrénées 31 : 05 61 79 21 21 – www.pyrenees31.com ou sur place le soir même.
URL:https://www.mairie-luchon.fr/event/theatre-une-petite-douleur-eligible-au-pass-culture/
LOCATION:Théâtre du Casino\, 1 place Richelieu\, Bagnères-de-Luchon\, 31110\, France
CATEGORIES:Culture
ATTACH;FMTTYPE=image/png:https://www.mairie-luchon.fr/wp-content/uploads/2025/09/Agenda-oct.-nov.-2025-2-UNE-PETITE-DOULEUR.png
END:VEVENT
END:VCALENDAR