BEGIN:VCALENDAR
VERSION:2.0
PRODID:-//Luchon - ECPv6.15.20//NONSGML v1.0//EN
CALSCALE:GREGORIAN
METHOD:PUBLISH
X-ORIGINAL-URL:https://www.mairie-luchon.fr
X-WR-CALDESC:Évènements pour Luchon
REFRESH-INTERVAL;VALUE=DURATION:PT1H
X-Robots-Tag:noindex
X-PUBLISHED-TTL:PT1H
BEGIN:VTIMEZONE
TZID:Europe/Paris
BEGIN:DAYLIGHT
TZOFFSETFROM:+0100
TZOFFSETTO:+0200
TZNAME:CEST
DTSTART:20230326T010000
END:DAYLIGHT
BEGIN:STANDARD
TZOFFSETFROM:+0200
TZOFFSETTO:+0100
TZNAME:CET
DTSTART:20231029T010000
END:STANDARD
BEGIN:DAYLIGHT
TZOFFSETFROM:+0100
TZOFFSETTO:+0200
TZNAME:CEST
DTSTART:20240331T010000
END:DAYLIGHT
BEGIN:STANDARD
TZOFFSETFROM:+0200
TZOFFSETTO:+0100
TZNAME:CET
DTSTART:20241027T010000
END:STANDARD
BEGIN:DAYLIGHT
TZOFFSETFROM:+0100
TZOFFSETTO:+0200
TZNAME:CEST
DTSTART:20250330T010000
END:DAYLIGHT
BEGIN:STANDARD
TZOFFSETFROM:+0200
TZOFFSETTO:+0100
TZNAME:CET
DTSTART:20251026T010000
END:STANDARD
END:VTIMEZONE
BEGIN:VEVENT
DTSTART;TZID=Europe/Paris:20240304T090000
DTEND;TZID=Europe/Paris:20241025T170000
DTSTAMP:20260421T085800
CREATED:20240325T110252Z
LAST-MODIFIED:20240403T135903Z
UID:10340-1709542800-1729875600@www.mairie-luchon.fr
SUMMARY:Luchon Express
DESCRIPTION:à l’occasion de l’ouverture des Thermes après travaux\, le Musée du Pays de Luchon et la Mairie proposent une exposition consacrée à l’évolution des établissements thermaux de la ville\, constituée de photos\, objets\, affiches et lithographies.
URL:https://www.mairie-luchon.fr/event/luchon-express/
LOCATION:Maison du curiste\, Cours des Quinconces\, Bagnères-de-Luchon\, 31110\, France
CATEGORIES:Exposition
ATTACH;FMTTYPE=image/png:https://www.mairie-luchon.fr/wp-content/uploads/2024/03/Sans-titre-1-Maison-du-curiste-2024.png
END:VEVENT
BEGIN:VEVENT
DTSTART;VALUE=DATE:20240706
DTEND;VALUE=DATE:20240728
DTSTAMP:20260421T085800
CREATED:20240620T064759Z
LAST-MODIFIED:20240620T064759Z
UID:11482-1720224000-1722124799@www.mairie-luchon.fr
SUMMARY:FESTIVAL MARBRE ET ARTS
DESCRIPTION:L’association Marbre et Arts organise depuis de nombreuses années un festival culturel et artistique\, le Festival de Sculpture et de Marbre de Saint-Béat. La ville de Luchon contribue à la valorisation de l’histoire et du patrimoine local en soutenant l’association Marbre et Arts dans la création d’une sculpture et la mise en place d’expositions.
URL:https://www.mairie-luchon.fr/event/festival-marbre-et-arts/
LOCATION:Maison du curiste\, Cours des Quinconces\, Bagnères-de-Luchon\, 31110\, France
CATEGORIES:Culture,Exposition
ATTACH;FMTTYPE=image/png:https://www.mairie-luchon.fr/wp-content/uploads/2024/06/Agenda-juillet-80.png
END:VEVENT
BEGIN:VEVENT
DTSTART;TZID=Europe/Paris:20240724T140000
DTEND;TZID=Europe/Paris:20240724T183000
DTSTAMP:20260421T085800
CREATED:20240701T083416Z
LAST-MODIFIED:20240701T083416Z
UID:11707-1721829600-1721845800@www.mairie-luchon.fr
SUMMARY:Exposition Pierres Fantastiques et spectacle d'un récit sidérant
DESCRIPTION:à partir de 14h\, exposition de pierres étranges trouvées dans les Pyrénées suivi à 17h d’un seul en scène. L’acteur Rémy Riflade raconte la découverte de ces pierres sidérantes faites au début du 21ème siècle et si ça avait été vous ?
URL:https://www.mairie-luchon.fr/event/exposition-pierres-fantastiques-et-spectacle-dun-recit-siderant/
LOCATION:salle de la Verrière\, Pl. Richelieu\, Bagnères-de-Luchon\, 31110\, France
CATEGORIES:Culture,Exposition
ATTACH;FMTTYPE=image/png:https://www.mairie-luchon.fr/wp-content/uploads/2024/07/Agenda-juillet-54.png
END:VEVENT
BEGIN:VEVENT
DTSTART;TZID=Europe/Paris:20240729T150000
DTEND;TZID=Europe/Paris:20240809T190000
DTSTAMP:20260421T085800
CREATED:20240701T090819Z
LAST-MODIFIED:20240701T090819Z
UID:11761-1722265200-1723230000@www.mairie-luchon.fr
SUMMARY:Exposition peintures  Alain Casado
DESCRIPTION:Présentation d’une sélection de 75 œuvres montrant le travail des dix dernières années de l’artiste. Une vente des œuvres sera organisée au profit de l’Association des Amis de l’église de Cazeaux de Larboust. Vernissage le 29 juillet à 18h00 avec la participation de la chanteuse Brigitte BALLEYS et du pianiste Laurent MARTIN pour un mini-concert.
URL:https://www.mairie-luchon.fr/event/exposition-peintures-alain-casado/
LOCATION:salle de la Verrière\, Pl. Richelieu\, Bagnères-de-Luchon\, 31110\, France
CATEGORIES:Culture,Exposition
ATTACH;FMTTYPE=image/png:https://www.mairie-luchon.fr/wp-content/uploads/2024/07/Agenda-juillet-72.png
END:VEVENT
BEGIN:VEVENT
DTSTART;TZID=Europe/Paris:20240729T150000
DTEND;TZID=Europe/Paris:20240809T190000
DTSTAMP:20260421T085800
CREATED:20240723T072622Z
LAST-MODIFIED:20240723T072622Z
UID:11882-1722265200-1723230000@www.mairie-luchon.fr
SUMMARY:EXPOSITION PEINTURES ALAIN CASADO
DESCRIPTION:Présentation d’une sélection de 75 oeuvres montrant le travail des dix dernières années de l’artiste. Une vente des oeuvres sera organisée au profit de l’Association des Amis de l’église de Cazeaux de Larboust. \nVernissage le 29 juillet à 18h00 avec la participation de la chanteuse Brigitte BALLEYS et du pianiste Laurent MARTIN.
URL:https://www.mairie-luchon.fr/event/exposition-peintures-alain-casado-2/
LOCATION:salle de la Verrière\, Pl. Richelieu\, Bagnères-de-Luchon\, 31110\, France
CATEGORIES:Culture,Exposition
ATTACH;FMTTYPE=image/png:https://www.mairie-luchon.fr/wp-content/uploads/2024/07/Aout-2024-1.png
END:VEVENT
END:VCALENDAR