BEGIN:VCALENDAR
VERSION:2.0
PRODID:-//Luchon - ECPv6.15.20//NONSGML v1.0//EN
CALSCALE:GREGORIAN
METHOD:PUBLISH
X-ORIGINAL-URL:https://www.mairie-luchon.fr
X-WR-CALDESC:Évènements pour Luchon
REFRESH-INTERVAL;VALUE=DURATION:PT1H
X-Robots-Tag:noindex
X-PUBLISHED-TTL:PT1H
BEGIN:VTIMEZONE
TZID:Europe/Paris
BEGIN:DAYLIGHT
TZOFFSETFROM:+0100
TZOFFSETTO:+0200
TZNAME:CEST
DTSTART:20230326T010000
END:DAYLIGHT
BEGIN:STANDARD
TZOFFSETFROM:+0200
TZOFFSETTO:+0100
TZNAME:CET
DTSTART:20231029T010000
END:STANDARD
BEGIN:DAYLIGHT
TZOFFSETFROM:+0100
TZOFFSETTO:+0200
TZNAME:CEST
DTSTART:20240331T010000
END:DAYLIGHT
BEGIN:STANDARD
TZOFFSETFROM:+0200
TZOFFSETTO:+0100
TZNAME:CET
DTSTART:20241027T010000
END:STANDARD
BEGIN:DAYLIGHT
TZOFFSETFROM:+0100
TZOFFSETTO:+0200
TZNAME:CEST
DTSTART:20250330T010000
END:DAYLIGHT
BEGIN:STANDARD
TZOFFSETFROM:+0200
TZOFFSETTO:+0100
TZNAME:CET
DTSTART:20251026T010000
END:STANDARD
END:VTIMEZONE
BEGIN:VEVENT
DTSTART;TZID=Europe/Paris:20240304T090000
DTEND;TZID=Europe/Paris:20241025T170000
DTSTAMP:20260421T152005
CREATED:20240325T110252Z
LAST-MODIFIED:20240403T135903Z
UID:10340-1709542800-1729875600@www.mairie-luchon.fr
SUMMARY:Luchon Express
DESCRIPTION:à l’occasion de l’ouverture des Thermes après travaux\, le Musée du Pays de Luchon et la Mairie proposent une exposition consacrée à l’évolution des établissements thermaux de la ville\, constituée de photos\, objets\, affiches et lithographies.
URL:https://www.mairie-luchon.fr/event/luchon-express/
LOCATION:Maison du curiste\, Cours des Quinconces\, Bagnères-de-Luchon\, 31110\, France
CATEGORIES:Exposition
ATTACH;FMTTYPE=image/png:https://www.mairie-luchon.fr/wp-content/uploads/2024/03/Sans-titre-1-Maison-du-curiste-2024.png
END:VEVENT
BEGIN:VEVENT
DTSTART;TZID=Europe/Paris:20240401T090000
DTEND;TZID=Europe/Paris:20240430T170000
DTSTAMP:20260421T152005
CREATED:20240325T110107Z
LAST-MODIFIED:20240403T135913Z
UID:10330-1711962000-1714496400@www.mairie-luchon.fr
SUMMARY:De la crémaillère à la crémaillère express…
DESCRIPTION:Deux façons totalement différentes d’accéder au plateau de Superbagnères… Avec une cinquantaine de photos rappelant la première remontée du début du siècle\, puis la déconstruction du téléporté\, et enfin\, la construction de la crémaillère express.\nVous verrez aussi l’expo traditionnelle des meilleures photos des adhérents du club.
URL:https://www.mairie-luchon.fr/event/de-la-cremaillere-a-la-cremaillere-express/
LOCATION:Maison du curiste\, Cours des Quinconces\, Bagnères-de-Luchon\, 31110\, France
CATEGORIES:Exposition
ATTACH;FMTTYPE=image/png:https://www.mairie-luchon.fr/wp-content/uploads/2024/03/Sans-titre-5-Maison-du-curiste-2024.png
END:VEVENT
BEGIN:VEVENT
DTSTART;TZID=Europe/Paris:20240401T090000
DTEND;TZID=Europe/Paris:20240430T170000
DTSTAMP:20260421T152005
CREATED:20240325T110418Z
LAST-MODIFIED:20240403T135930Z
UID:10342-1711962000-1714496400@www.mairie-luchon.fr
SUMMARY:ELEM
DESCRIPTION:Artiste autodidacte. Mes peintures sont inspirées de l’art “abstrait”\, “du pop art”et “de l’art graphique”.\nJe peins de manière instinctive et spontanée\, à l’acrylique et à la bombe. Les couleurs sont très contrastées\, posées à la manière de vitraux. J’utilise des chiffres\, mêlés aux formes géométriques\, aux courbes et aux lignes. Cette calligraphie des chiffres a une importance esthétique et graphique. Mais sous ce côté coloré et accumulatif de chiffres\, se cache la thématique du temps qui passe.
URL:https://www.mairie-luchon.fr/event/elem/
LOCATION:Maison du curiste\, Cours des Quinconces\, Bagnères-de-Luchon\, 31110\, France
CATEGORIES:Exposition
ATTACH;FMTTYPE=image/png:https://www.mairie-luchon.fr/wp-content/uploads/2024/03/Sans-titre-6-Maison-du-curiste-2024.png
END:VEVENT
END:VCALENDAR