BEGIN:VCALENDAR
VERSION:2.0
PRODID:-//Luchon - ECPv6.15.20//NONSGML v1.0//EN
CALSCALE:GREGORIAN
METHOD:PUBLISH
X-WR-CALNAME:Luchon
X-ORIGINAL-URL:https://www.mairie-luchon.fr
X-WR-CALDESC:Évènements pour Luchon
REFRESH-INTERVAL;VALUE=DURATION:PT1H
X-Robots-Tag:noindex
X-PUBLISHED-TTL:PT1H
BEGIN:VTIMEZONE
TZID:Europe/Paris
BEGIN:DAYLIGHT
TZOFFSETFROM:+0100
TZOFFSETTO:+0200
TZNAME:CEST
DTSTART:20240331T010000
END:DAYLIGHT
BEGIN:STANDARD
TZOFFSETFROM:+0200
TZOFFSETTO:+0100
TZNAME:CET
DTSTART:20241027T010000
END:STANDARD
BEGIN:DAYLIGHT
TZOFFSETFROM:+0100
TZOFFSETTO:+0200
TZNAME:CEST
DTSTART:20250330T010000
END:DAYLIGHT
BEGIN:STANDARD
TZOFFSETFROM:+0200
TZOFFSETTO:+0100
TZNAME:CET
DTSTART:20251026T010000
END:STANDARD
BEGIN:DAYLIGHT
TZOFFSETFROM:+0100
TZOFFSETTO:+0200
TZNAME:CEST
DTSTART:20260329T010000
END:DAYLIGHT
BEGIN:STANDARD
TZOFFSETFROM:+0200
TZOFFSETTO:+0100
TZNAME:CET
DTSTART:20261025T010000
END:STANDARD
END:VTIMEZONE
BEGIN:VEVENT
DTSTART;TZID=Europe/Paris:20251206T090000
DTEND;TZID=Europe/Paris:20251207T170000
DTSTAMP:20260420T163837
CREATED:20251114T142604Z
LAST-MODIFIED:20251114T142604Z
UID:16187-1765011600-1765126800@www.mairie-luchon.fr
SUMMARY:BOURSE AUX SKIS
DESCRIPTION:BOURSE AUX SKIS  –  Matériel de montagne
URL:https://www.mairie-luchon.fr/event/bourse-aux-skis-2/
LOCATION:Casino\, Pl. Richelieu\, Bagnères-de-Luchon\, 31110\, France
CATEGORIES:Animation,Loisirs,Sport
ATTACH;FMTTYPE=image/jpeg:https://www.mairie-luchon.fr/wp-content/uploads/2025/11/LED_BourseSki_2025.jpg
END:VEVENT
BEGIN:VEVENT
DTSTART;TZID=Europe/Paris:20251223T110000
DTEND;TZID=Europe/Paris:20251223T120000
DTSTAMP:20260420T163837
CREATED:20251127T102911Z
LAST-MODIFIED:20251127T102937Z
UID:16291-1766487600-1766491200@www.mairie-luchon.fr
SUMMARY:SOPHRO-RELAXATION
DESCRIPTION:Offrez-vous une parenthèse de détente et de recentrage sur vous même.\nMarion vous propose une alliance entre yoga\, relaxation et sophrologie. Tenue confortable et serviette ou tapis de gym.\nInscriptions au Bureau des Sports (places limitées). \nTél : 05 61 94 68 75
URL:https://www.mairie-luchon.fr/event/sophro-relaxation-16/
LOCATION:Salle Municipale des Sports\, 23 Allée d'Étigny\, Bagnères-de-Luchon\, 31110\, France
CATEGORIES:Sport
ATTACH;FMTTYPE=image/png:https://www.mairie-luchon.fr/wp-content/uploads/2025/11/Agenda-decembre-2025-14-FETE-DES-FLEURS-DES-ENFANTS-.png
END:VEVENT
BEGIN:VEVENT
DTSTART;TZID=Europe/Paris:20251226T100000
DTEND;TZID=Europe/Paris:20251226T113000
DTSTAMP:20260420T163837
CREATED:20251127T104232Z
LAST-MODIFIED:20251201T143318Z
UID:16301-1766743200-1766748600@www.mairie-luchon.fr
SUMMARY:AQUA-RELAX
DESCRIPTION:Venez vous détendre dans un bassin chauffé lors d’un temps de bien-être partagé en musique douce. \nTél : 05 61 94 68 75
URL:https://www.mairie-luchon.fr/event/aqua-relax/
LOCATION:Bassin Chambert\, Cours des Quinconces\, Bagnères-de-Luchon\, 31110\, France
CATEGORIES:Sport
ATTACH;FMTTYPE=image/png:https://www.mairie-luchon.fr/wp-content/uploads/2025/11/Agenda-decembre-2025-17-Avocacol.png
END:VEVENT
BEGIN:VEVENT
DTSTART;TZID=Europe/Paris:20251226T150000
DTEND;TZID=Europe/Paris:20251226T163000
DTSTAMP:20260420T163837
CREATED:20251127T104602Z
LAST-MODIFIED:20251127T112226Z
UID:16304-1766761200-1766766600@www.mairie-luchon.fr
SUMMARY:JARDIN AQUATIQUE
DESCRIPTION:Venez goûter au plaisir de l’eau dans un bassin chauffé\, aménagé avec du matériel ludique : toboggan\, tunnel\, tapis flottant et bien plus encore ! Présence d’un adulte obligatoire\, Bonnet de bain requis). De 4 à 11 ans. \nInscriptions au Bureau des Sports ( places limitées) . Tél : 05 61 94 68 75
URL:https://www.mairie-luchon.fr/event/jardin-aquatique-58/
LOCATION:Bassin Chambert\, Cours des Quinconces\, Bagnères-de-Luchon\, 31110\, France
CATEGORIES:Enfant,Sport
ATTACH;FMTTYPE=image/png:https://www.mairie-luchon.fr/wp-content/uploads/2025/11/Agenda-decembre-2025-18-Chistera.png
END:VEVENT
BEGIN:VEVENT
DTSTART;TZID=Europe/Paris:20251229T100000
DTEND;TZID=Europe/Paris:20251229T113000
DTSTAMP:20260420T163837
CREATED:20251127T111109Z
LAST-MODIFIED:20251127T111109Z
UID:16313-1767002400-1767007800@www.mairie-luchon.fr
SUMMARY:AQUA-RELAX
DESCRIPTION:Venez vous détendre dans un bassin chauffé lors d’un temps de bien-être partagé en musique douce. \nTél : 05 61 94 68 75
URL:https://www.mairie-luchon.fr/event/aqua-relax-2/
LOCATION:Bassin Chambert\, Cours des Quinconces\, Bagnères-de-Luchon\, 31110\, France
CATEGORIES:Sport
ATTACH;FMTTYPE=image/png:https://www.mairie-luchon.fr/wp-content/uploads/2025/11/Agenda-decembre-2025-17-Avocacol.png
END:VEVENT
BEGIN:VEVENT
DTSTART;TZID=Europe/Paris:20251229T150000
DTEND;TZID=Europe/Paris:20251229T163000
DTSTAMP:20260420T163837
CREATED:20251127T111410Z
LAST-MODIFIED:20251127T112125Z
UID:16315-1767020400-1767025800@www.mairie-luchon.fr
SUMMARY:JARDIN AQUATIQUE
DESCRIPTION:Venez goûter au plaisir de l’eau dans un bassin chauffé\, aménagé avec du matériel ludique : toboggan\, tunnel\, tapis flottant et bien plus encore ! Présence d’un adulte obligatoire\, Bonnet de bain requis). De 4 à 11 ans. \nInscriptions au Bureau des Sports ( places limitées) Tél : 05 61 94 68 75
URL:https://www.mairie-luchon.fr/event/jardin-aquatique-59/
LOCATION:Bassin Chambert\, Cours des Quinconces\, Bagnères-de-Luchon\, 31110\, France
CATEGORIES:Enfant,Sport
ATTACH;FMTTYPE=image/png:https://www.mairie-luchon.fr/wp-content/uploads/2025/11/Agenda-decembre-2025-18-Chistera.png
END:VEVENT
BEGIN:VEVENT
DTSTART;TZID=Europe/Paris:20251230T100000
DTEND;TZID=Europe/Paris:20251230T113000
DTSTAMP:20260420T163837
CREATED:20251127T114906Z
LAST-MODIFIED:20251127T114906Z
UID:16330-1767088800-1767094200@www.mairie-luchon.fr
SUMMARY:AQUA-RELAX
DESCRIPTION:Venez vous détendre dans un bassin chauffé lors d’un temps de bien-être partagé en musique douce. \nTél : 05 61 94 68 75
URL:https://www.mairie-luchon.fr/event/aqua-relax-3/
LOCATION:Bassin Chambert\, Cours des Quinconces\, Bagnères-de-Luchon\, 31110\, France
CATEGORIES:Sport
ATTACH;FMTTYPE=image/png:https://www.mairie-luchon.fr/wp-content/uploads/2025/11/Agenda-decembre-2025-17-Avocacol.png
END:VEVENT
BEGIN:VEVENT
DTSTART;TZID=Europe/Paris:20251230T110000
DTEND;TZID=Europe/Paris:20251230T120000
DTSTAMP:20260420T163837
CREATED:20251127T115242Z
LAST-MODIFIED:20251127T115242Z
UID:16332-1767092400-1767096000@www.mairie-luchon.fr
SUMMARY:SOPHRO-RELAXATION
DESCRIPTION:Offrez-vous une parenthèse de détente et de recentrage sur vous même.\nMarion vous propose une alliance entre yoga\, relaxation et sophrologie. Tenue confortable et serviette ou tapis de gym.\nInscriptions au Bureau des Sports (places limitées). Tél : 05 61 94 68 75
URL:https://www.mairie-luchon.fr/event/sophro-relaxation-17/
LOCATION:Salle Municipale des Sports\, 23 Allée d'Étigny\, Bagnères-de-Luchon\, 31110\, France
CATEGORIES:Sport
ATTACH;FMTTYPE=image/png:https://www.mairie-luchon.fr/wp-content/uploads/2025/11/Agenda-decembre-2025-14-FETE-DES-FLEURS-DES-ENFANTS-.png
END:VEVENT
BEGIN:VEVENT
DTSTART;TZID=Europe/Paris:20251231T100000
DTEND;TZID=Europe/Paris:20251231T113000
DTSTAMP:20260420T163837
CREATED:20251201T142325Z
LAST-MODIFIED:20251201T142325Z
UID:16360-1767175200-1767180600@www.mairie-luchon.fr
SUMMARY:AQUA-RELAX
DESCRIPTION:Venez vous détendre dans un bassin chauffé lors d’un temps de bien-être partagé en musique douce. \nTél : 05 61 94 68 75
URL:https://www.mairie-luchon.fr/event/aqua-relax-4/
LOCATION:Bassin Chambert\, Cours des Quinconces\, Bagnères-de-Luchon\, 31110\, France
CATEGORIES:Sport
ATTACH;FMTTYPE=image/png:https://www.mairie-luchon.fr/wp-content/uploads/2025/11/Agenda-decembre-2025-17-Avocacol.png
END:VEVENT
BEGIN:VEVENT
DTSTART;TZID=Europe/Paris:20251231T150000
DTEND;TZID=Europe/Paris:20251231T163000
DTSTAMP:20260420T163837
CREATED:20251201T142835Z
LAST-MODIFIED:20251201T142835Z
UID:16362-1767193200-1767198600@www.mairie-luchon.fr
SUMMARY:JARDIN AQUATIQUE
DESCRIPTION:Venez goûter au plaisir de l’eau dans un bassin chauffé\, aménagé avec du matériel ludique : toboggan\, tunnel\, tapis flottant et bien plus encore ! Présence d’un adulte obligatoire. Bonnet de bain requis – \nInscriptions au Bureau des Sports – ( places limitées)
URL:https://www.mairie-luchon.fr/event/jardin-aquatique-60/
LOCATION:Bassin Chambert\, Cours des Quinconces\, Bagnères-de-Luchon\, 31110\, France
CATEGORIES:Enfant,Sport
ATTACH;FMTTYPE=image/png:https://www.mairie-luchon.fr/wp-content/uploads/2025/11/Agenda-decembre-2025-18-Chistera.png
END:VEVENT
END:VCALENDAR