BEGIN:VCALENDAR
VERSION:2.0
PRODID:-//Luchon - ECPv6.15.20//NONSGML v1.0//EN
CALSCALE:GREGORIAN
METHOD:PUBLISH
X-WR-CALNAME:Luchon
X-ORIGINAL-URL:https://www.mairie-luchon.fr
X-WR-CALDESC:Évènements pour Luchon
REFRESH-INTERVAL;VALUE=DURATION:PT1H
X-Robots-Tag:noindex
X-PUBLISHED-TTL:PT1H
BEGIN:VTIMEZONE
TZID:Europe/Paris
BEGIN:DAYLIGHT
TZOFFSETFROM:+0100
TZOFFSETTO:+0200
TZNAME:CEST
DTSTART:20250330T010000
END:DAYLIGHT
BEGIN:STANDARD
TZOFFSETFROM:+0200
TZOFFSETTO:+0100
TZNAME:CET
DTSTART:20251026T010000
END:STANDARD
BEGIN:DAYLIGHT
TZOFFSETFROM:+0100
TZOFFSETTO:+0200
TZNAME:CEST
DTSTART:20260329T010000
END:DAYLIGHT
BEGIN:STANDARD
TZOFFSETFROM:+0200
TZOFFSETTO:+0100
TZNAME:CET
DTSTART:20261025T010000
END:STANDARD
BEGIN:DAYLIGHT
TZOFFSETFROM:+0100
TZOFFSETTO:+0200
TZNAME:CEST
DTSTART:20270328T010000
END:DAYLIGHT
BEGIN:STANDARD
TZOFFSETFROM:+0200
TZOFFSETTO:+0100
TZNAME:CET
DTSTART:20271031T010000
END:STANDARD
END:VTIMEZONE
BEGIN:VEVENT
DTSTART;VALUE=DATE:20260211
DTEND;VALUE=DATE:20260215
DTSTAMP:20260420T195934
CREATED:20260121T074657Z
LAST-MODIFIED:20260121T074657Z
UID:16610-1770768000-1771113599@www.mairie-luchon.fr
SUMMARY:WINTER PYLOT 2026
DESCRIPTION:PROGRAMME : \nTESTIVAL SKI ALPIN\, SKI DE RANDONNÉE & SNOWBOARD \nJeudi & vendredi – 9h à 15h Superbagnères : Stands des fabricants de ski devant la billetterie & essais gratuits de skis alpins & skis de rando sur le domaine skiable et sur les parcours de ski de rando (forfait remontées mécaniques à acheter sur place) \nJeudi à 18h à Superbagnères : Compétition amicale de ski de rando (inscription 5€ à régler sur place) avec une remise des prix & collation suivie d’une descente au flambeau et feu d’artifice \nMercredi au samedi – 17h à 21h Casino de Luchon\, salle Verrière : Salon des professionnels (entrée libre) rencontres avec les professionnels de la montagne\, le bureau des Guides de Luchon\, les prestataires locaux\, les accompagnateurs montagne\, l’ESF de Superbagnères. \nTESTIVAL PARAPENTE \nMercredi au samedi – 17h à 21h – Casino de Luchon\, salle Verrière : Salon des professionnels : rencontres avec les fabricants de parapente\, boutiques\, écoles de parapente\, clubs (entrée libre) \nMercredi au vendredi – 17h à 21h – Superbagnères : Essais gratuits d’équipements parapente (prêt de matériel la veille au salon des professionnels pour essais en vol le lendemain sur le site de Superbagnères – forfait remontées mécaniques à acheter sur place) \nCONFÉRENCES\, PROJECTIONS DE FILMS & RENCONTRES \nMercredi 11 février – Casino de Luchon  – Entrée libre : \n18h : Table ronde «Enjeux des pratiques sportives de montagne au féminin» coanimée par Charlotte Roura et Lola Niccolai\, représentantes de la commission féminine FFVL et de l’association Pyrelles \n19h : La préparation mentale en parapente – Charlotte Roura \n20h : Apéritif de bienvenue offert \n20h30 : Projection des films primés au Festival Icare 2025 \nJeudi 12 février – Casino de Luchon – Entrée libre : \n17h : conférence de Jean-Jacques Doucet « Comment notre cerveau gère le risque » \n18h30 : conférence sur les concepts et les usages des sellettes/cocons par Eric Roussel (Designer Neo) et Marc Boyer (pilote tests) \n20h00 : apéritif offert par Neo Gin Skywalk \n20h30 : projection du film «ALPS»\, la traversée des Alpes d’Annecy à Innsbruck en vol bivouac avec Tim Alongi et Clement Cruciani. Film Neo «Performance Project» \nVendredi 13 février – Casino de Luchon – Entrée libre : \n18h : « soirée Montagne » avec le Bureau des Guides de Luchon\, film sur le métier de guide dans les Pyrénées & intervention du PGHM de Luchon sur les secours en montagne et les recommandations \n19h : conférence de Pierre René\, glaciologique\, sur les glaciers Pyrénées \n20h00 : apéritif offert \n20h30 : projection du film « 28.77» de Valentin Cazaux sur la découverte des Pyrénées et de la folle idée de skier les 4 faces du célèbre Pic du Midi de Bigorre \nSamedi 14 février – Casino de Luchon : \n19h : Apéritif offert \n20h : repas avec tous les participants\, exposants\, bénévoles. Inscription les jours précédents sur place à l’accueil du Casino (participation 15€/ personne) \n21h : Projection des films primés au Festival Icare 2025
URL:https://www.mairie-luchon.fr/event/winter-pylot-2026/
LOCATION:Luchon-Superbagnères & Casino
CATEGORIES:Sport
ATTACH;FMTTYPE=image/png:https://www.mairie-luchon.fr/wp-content/uploads/2026/01/Agenda-fevrier-mars-2026-4-WINTER-PYLOT.png
END:VEVENT
BEGIN:VEVENT
DTSTART;TZID=Europe/Paris:20260212T170000
DTEND;TZID=Europe/Paris:20260212T180000
DTSTAMP:20260420T195934
CREATED:20260119T131029Z
LAST-MODIFIED:20260119T131029Z
UID:16590-1770915600-1770919200@www.mairie-luchon.fr
SUMMARY:SOPHRO-RELAXATION
DESCRIPTION:Offrez-vous une parenthèse de détente et de recentrage sur vous même. Marion vous propose une alliance entre yoga\, relaxation et sophrologie. \nTenue confortable et serviette ou tapis de gym. \nSalle Municipale des Sports (derrière la Mairie) \nInscriptions au Bureau des Sports 05 61 94 68 75 (places limitées).
URL:https://www.mairie-luchon.fr/event/sophro-relaxation-18/
LOCATION:Salle Municipale des Sports\, 23 Allée d'Étigny\, Bagnères-de-Luchon\, 31110\, France
CATEGORIES:Sport
ATTACH;FMTTYPE=image/png:https://www.mairie-luchon.fr/wp-content/uploads/2025/11/Agenda-decembre-2025-14-FETE-DES-FLEURS-DES-ENFANTS-.png
END:VEVENT
BEGIN:VEVENT
DTSTART;TZID=Europe/Paris:20260223T090000
DTEND;TZID=Europe/Paris:20260223T113000
DTSTAMP:20260420T195934
CREATED:20260122T105743Z
LAST-MODIFIED:20260122T105743Z
UID:16662-1771837200-1771846200@www.mairie-luchon.fr
SUMMARY:MUSCULATION SANTÉ
DESCRIPTION:Cardio-training et renforcement musculaire : venez améliorer votre capital santé. \nInscriptions au Bureau des Sports –  (En matinée – places limitées). Tarif : 5 € \nTél : 05 61 94 68 75
URL:https://www.mairie-luchon.fr/event/musculation-sante-9/
LOCATION:Salle Clément Ader\, Place Léon Elissalde\, Bagnères-de-Luchon\, 31110\, France
CATEGORIES:Sport
ATTACH;FMTTYPE=image/png:https://www.mairie-luchon.fr/wp-content/uploads/2026/01/Agenda-fevrier-mars-2026-19-Musculation-sante.png
END:VEVENT
BEGIN:VEVENT
DTSTART;TZID=Europe/Paris:20260223T100000
DTEND;TZID=Europe/Paris:20260223T163000
DTSTAMP:20260420T195934
CREATED:20260122T110319Z
LAST-MODIFIED:20260122T110319Z
UID:16665-1771840800-1771864200@www.mairie-luchon.fr
SUMMARY:JARDIN AQUATIQUE
DESCRIPTION:Dans un bassin chauffé\, aménagé avec du matériel ludique : Toboggan\, tunnel\, tapis flottant et bien plus encore ! (Présence d’un adulte obligatoire – Bonnet de bain). \nDe 10h00 à 11h30 et de 15h00 à 16h30 \nInscriptions au bureau des sports (En matinée – Places limitées). Tarif : 5 € – De 4 à 11 ans \nTél : 05 61 94 68 75
URL:https://www.mairie-luchon.fr/event/jardin-aquatique-61/
LOCATION:Bassin Chambert\, Cours des Quinconces\, Bagnères-de-Luchon\, 31110\, France
CATEGORIES:Enfant,Sport
ATTACH;FMTTYPE=image/png:https://www.mairie-luchon.fr/wp-content/uploads/2025/11/Agenda-decembre-2025-18-Chistera.png
END:VEVENT
BEGIN:VEVENT
DTSTART;TZID=Europe/Paris:20260223T140000
DTEND;TZID=Europe/Paris:20260223T163000
DTSTAMP:20260420T195934
CREATED:20260122T110641Z
LAST-MODIFIED:20260122T110641Z
UID:16667-1771855200-1771864200@www.mairie-luchon.fr
SUMMARY:DÉCOUVERTE DES SENTIERS DU LUCHONNAIS
DESCRIPTION:Boucle au départ des Halles de Luchon (Place Rouy) : randonnée modérée. Bonne condition physique. Équipement : des chaussures confortables et un sac à dos léger – Prévoir de l’eau et des encas – \nInscriptions au bureau des Sports (En matinée). Tarif : 5 € \nTél : 05 61 94 68 75
URL:https://www.mairie-luchon.fr/event/decouverte-des-sentiers-du-luchonnais/
LOCATION:Place du marché\, Place Gabriel Rouy\, Bagnères-de-Luchon\, 31110\, France
CATEGORIES:Sport
ATTACH;FMTTYPE=image/png:https://www.mairie-luchon.fr/wp-content/uploads/2026/01/Agenda-fevrier-mars-2026-21-Decouverte-des-sentiers-du-Luchonnais-Halle.png
END:VEVENT
BEGIN:VEVENT
DTSTART;TZID=Europe/Paris:20260225T090000
DTEND;TZID=Europe/Paris:20260225T113000
DTSTAMP:20260420T195934
CREATED:20260122T112921Z
LAST-MODIFIED:20260122T112921Z
UID:16683-1772010000-1772019000@www.mairie-luchon.fr
SUMMARY:MUSCULATION SANTÉ
DESCRIPTION:Cardio-training et renforcement musculaire : venez améliorer votre capital santé. \nInscriptions au Bureau des Sports (En matinée – places limitées). Tél : 05 61 94 68 75 – Tarif : 5 €
URL:https://www.mairie-luchon.fr/event/musculation-sante-10/
LOCATION:Salle Clément Ader\, Place Léon Elissalde\, Bagnères-de-Luchon\, 31110\, France
CATEGORIES:Sport
ATTACH;FMTTYPE=image/png:https://www.mairie-luchon.fr/wp-content/uploads/2026/01/Agenda-fevrier-mars-2026-25-Musculation-sante.png
END:VEVENT
BEGIN:VEVENT
DTSTART;TZID=Europe/Paris:20260225T100000
DTEND;TZID=Europe/Paris:20260225T163000
DTSTAMP:20260420T195934
CREATED:20260122T113253Z
LAST-MODIFIED:20260122T113253Z
UID:16686-1772013600-1772037000@www.mairie-luchon.fr
SUMMARY:JARDIN AQUATIQUE
DESCRIPTION:Dans un bassin chauffé\, aménagé avec du matériel ludique : Toboggan\, tunnel\, tapis flottant et bien plus encore ! (Présence d’un adulte obligatoire – Bonnet de bain). \nDe 10h00 à 11h30 et de 15h00 à 16h30 – De 4 à 11 ans \nInscriptions au bureau des sports (En matinée – Places limitées).
URL:https://www.mairie-luchon.fr/event/jardin-aquatique-62/
LOCATION:Bassin Chambert\, Cours des Quinconces\, Bagnères-de-Luchon\, 31110\, France
CATEGORIES:Enfant,Sport
ATTACH;FMTTYPE=image/png:https://www.mairie-luchon.fr/wp-content/uploads/2026/01/Agenda-fevrier-mars-2026-26-Jardin-aquatique.png
END:VEVENT
BEGIN:VEVENT
DTSTART;TZID=Europe/Paris:20260225T140000
DTEND;TZID=Europe/Paris:20260225T163000
DTSTAMP:20260420T195934
CREATED:20260122T113742Z
LAST-MODIFIED:20260122T113742Z
UID:16691-1772028000-1772037000@www.mairie-luchon.fr
SUMMARY:DÉCOUVERTE DES SENTIERS DU LUCHONNAIS
DESCRIPTION:Boucle au départ de Saint-Mamet – Passerelle de Péquerin \nVenez découvrir la beauté sereine du Luchonnais lors d’une escapade inoubliable. Laissez-vous enchanter par la richesse des paysages qui vous entourent. Randonnée modérée. Bonne condition physique. Équipement : des chaussures confortables et un sac à dos léger – Prévoir de l’eau et des encas – \nInscriptions au bureau des Sports (En matinée) – Tél : 05 61 94 68 75 – Tarif : 5 €
URL:https://www.mairie-luchon.fr/event/decouverte-des-sentiers-du-luchonnais-2/
LOCATION:Parking au pied du col du Portillon
CATEGORIES:Sport
ATTACH;FMTTYPE=image/png:https://www.mairie-luchon.fr/wp-content/uploads/2026/01/Agenda-fevrier-mars-2026-27-Decouverte-des-sentiers-du-Luchonnais-Passerelle.png
END:VEVENT
BEGIN:VEVENT
DTSTART;TZID=Europe/Paris:20260227T090000
DTEND;TZID=Europe/Paris:20260227T113000
DTSTAMP:20260420T195934
CREATED:20260127T132644Z
LAST-MODIFIED:20260127T132727Z
UID:16783-1772182800-1772191800@www.mairie-luchon.fr
SUMMARY:MUSCULATION SANTÉ
DESCRIPTION:Cardio-training et renforcement musculaire : venez améliorer votre capital santé. \nInscriptions au Bureau des Sports (En matinée – places limitées). Tél : 05 61 94 68 75
URL:https://www.mairie-luchon.fr/event/musculation-sante-11/
LOCATION:Salle Clément Ader\, Place Léon Elissalde\, Bagnères-de-Luchon\, 31110\, France
CATEGORIES:Sport
ATTACH;FMTTYPE=image/png:https://www.mairie-luchon.fr/wp-content/uploads/2026/01/Agenda-fevrier-mars-2026-25-Musculation-sante.png
END:VEVENT
BEGIN:VEVENT
DTSTART;TZID=Europe/Paris:20260227T100000
DTEND;TZID=Europe/Paris:20260227T113000
DTSTAMP:20260420T195934
CREATED:20260127T133101Z
LAST-MODIFIED:20260127T133101Z
UID:16785-1772186400-1772191800@www.mairie-luchon.fr
SUMMARY:JARDIN AQUATIQUE
DESCRIPTION:Dans un bassin chauffé\, aménagé avec du matériel ludique : Toboggan\, tunnel\, tapis flottant et bien plus encore ! (Présence d’un adulte obligatoire – Bonnet de bain). De 4 à 11 ans \nInscriptions au bureau des sports (En matinée – Places limitées). Tél 05 61 94 68 75
URL:https://www.mairie-luchon.fr/event/jardin-aquatique-66/
LOCATION:Bassin Chambert\, Cours des Quinconces\, Bagnères-de-Luchon\, 31110\, France
CATEGORIES:Enfant,Sport
ATTACH;FMTTYPE=image/png:https://www.mairie-luchon.fr/wp-content/uploads/2026/01/Agenda-fevrier-mars-2026-32-Jardin-aquatique.png
END:VEVENT
BEGIN:VEVENT
DTSTART;TZID=Europe/Paris:20260227T140000
DTEND;TZID=Europe/Paris:20260227T163000
DTSTAMP:20260420T195934
CREATED:20260127T133540Z
LAST-MODIFIED:20260127T133540Z
UID:16787-1772200800-1772209800@www.mairie-luchon.fr
SUMMARY:DÉCOUVERTE DES SENTIERS DU LUCHONNAIS
DESCRIPTION:Boucle au départ du Lac de Badech – Cascade de Juzet-de Luchon  : Venez découvrir la beauté sereine du Luchonnais lors d’une escapade inoubliable. Laissez-vous enchanter par la richesse des paysages qui vous entourent. Randonnée modérée. Bonne condition physique. Équipement : des chaussures confortables et un sac à dos léger – Prévoir de l’eau et des encas – Départ Parking lac de Badech (Nord) \nInscriptions au bureau des Sports (En matinée)- Tél : 05 61 94 68 75
URL:https://www.mairie-luchon.fr/event/decouverte-des-sentiers-du-luchonnais-3/
LOCATION:Lac de Badech\, Bagnères de Luchon\, 31110\, France
CATEGORIES:Sport
ATTACH;FMTTYPE=image/png:https://www.mairie-luchon.fr/wp-content/uploads/2026/01/Agenda-fevrier-mars-2026-33-Decouverte-des-sentiers-du-Luchonnais-Cascade-Ju.png
END:VEVENT
END:VCALENDAR