BEGIN:VCALENDAR
VERSION:2.0
PRODID:-//Luchon - ECPv6.15.20//NONSGML v1.0//EN
CALSCALE:GREGORIAN
METHOD:PUBLISH
X-ORIGINAL-URL:https://www.mairie-luchon.fr
X-WR-CALDESC:Évènements pour Luchon
REFRESH-INTERVAL;VALUE=DURATION:PT1H
X-Robots-Tag:noindex
X-PUBLISHED-TTL:PT1H
BEGIN:VTIMEZONE
TZID:Europe/Paris
BEGIN:DAYLIGHT
TZOFFSETFROM:+0100
TZOFFSETTO:+0200
TZNAME:CEST
DTSTART:20240331T010000
END:DAYLIGHT
BEGIN:STANDARD
TZOFFSETFROM:+0200
TZOFFSETTO:+0100
TZNAME:CET
DTSTART:20241027T010000
END:STANDARD
BEGIN:DAYLIGHT
TZOFFSETFROM:+0100
TZOFFSETTO:+0200
TZNAME:CEST
DTSTART:20250330T010000
END:DAYLIGHT
BEGIN:STANDARD
TZOFFSETFROM:+0200
TZOFFSETTO:+0100
TZNAME:CET
DTSTART:20251026T010000
END:STANDARD
BEGIN:DAYLIGHT
TZOFFSETFROM:+0100
TZOFFSETTO:+0200
TZNAME:CEST
DTSTART:20260329T010000
END:DAYLIGHT
BEGIN:STANDARD
TZOFFSETFROM:+0200
TZOFFSETTO:+0100
TZNAME:CET
DTSTART:20261025T010000
END:STANDARD
END:VTIMEZONE
BEGIN:VEVENT
DTSTART;VALUE=DATE:20251116
DTEND;VALUE=DATE:20251117
DTSTAMP:20260420T164737
CREATED:20251017T124154Z
LAST-MODIFIED:20251017T124737Z
UID:16023-1763251200-1763337599@www.mairie-luchon.fr
SUMMARY:COMPÉTITION DE GOLF - COUPE DU TÉLÉTHON
DESCRIPTION:COUPE DU TÉLÉTHON .\nScramble à 2 \nGreen-fee 42€ – Droit de jeu 15€ \nTél : 05 61 79 03 27
URL:https://www.mairie-luchon.fr/event/competition-de-golf-16/
LOCATION:Golf de Luchon
CATEGORIES:Sport
ATTACH;FMTTYPE=image/png:https://www.mairie-luchon.fr/wp-content/uploads/2025/09/Agenda-oct.-nov.-2025-4-Competition-de-golf.png
END:VEVENT
END:VCALENDAR