BEGIN:VCALENDAR
VERSION:2.0
PRODID:-//Luchon - ECPv6.15.20//NONSGML v1.0//EN
CALSCALE:GREGORIAN
METHOD:PUBLISH
X-ORIGINAL-URL:https://www.mairie-luchon.fr
X-WR-CALDESC:Évènements pour Luchon
REFRESH-INTERVAL;VALUE=DURATION:PT1H
X-Robots-Tag:noindex
X-PUBLISHED-TTL:PT1H
BEGIN:VTIMEZONE
TZID:Europe/Paris
BEGIN:DAYLIGHT
TZOFFSETFROM:+0100
TZOFFSETTO:+0200
TZNAME:CEST
DTSTART:20240331T010000
END:DAYLIGHT
BEGIN:STANDARD
TZOFFSETFROM:+0200
TZOFFSETTO:+0100
TZNAME:CET
DTSTART:20241027T010000
END:STANDARD
BEGIN:DAYLIGHT
TZOFFSETFROM:+0100
TZOFFSETTO:+0200
TZNAME:CEST
DTSTART:20250330T010000
END:DAYLIGHT
BEGIN:STANDARD
TZOFFSETFROM:+0200
TZOFFSETTO:+0100
TZNAME:CET
DTSTART:20251026T010000
END:STANDARD
BEGIN:DAYLIGHT
TZOFFSETFROM:+0100
TZOFFSETTO:+0200
TZNAME:CEST
DTSTART:20260329T010000
END:DAYLIGHT
BEGIN:STANDARD
TZOFFSETFROM:+0200
TZOFFSETTO:+0100
TZNAME:CET
DTSTART:20261025T010000
END:STANDARD
END:VTIMEZONE
BEGIN:VEVENT
DTSTART;TZID=Europe/Paris:20251223T110000
DTEND;TZID=Europe/Paris:20251223T120000
DTSTAMP:20260420T181534
CREATED:20251127T102911Z
LAST-MODIFIED:20251127T102937Z
UID:16291-1766487600-1766491200@www.mairie-luchon.fr
SUMMARY:SOPHRO-RELAXATION
DESCRIPTION:Offrez-vous une parenthèse de détente et de recentrage sur vous même.\nMarion vous propose une alliance entre yoga\, relaxation et sophrologie. Tenue confortable et serviette ou tapis de gym.\nInscriptions au Bureau des Sports (places limitées). \nTél : 05 61 94 68 75
URL:https://www.mairie-luchon.fr/event/sophro-relaxation-16/
LOCATION:Salle Municipale des Sports\, 23 Allée d'Étigny\, Bagnères-de-Luchon\, 31110\, France
CATEGORIES:Sport
ATTACH;FMTTYPE=image/png:https://www.mairie-luchon.fr/wp-content/uploads/2025/11/Agenda-decembre-2025-14-FETE-DES-FLEURS-DES-ENFANTS-.png
END:VEVENT
END:VCALENDAR