BEGIN:VCALENDAR
VERSION:2.0
PRODID:-//Luchon - ECPv6.15.20//NONSGML v1.0//EN
CALSCALE:GREGORIAN
METHOD:PUBLISH
X-ORIGINAL-URL:https://www.mairie-luchon.fr
X-WR-CALDESC:Évènements pour Luchon
REFRESH-INTERVAL;VALUE=DURATION:PT1H
X-Robots-Tag:noindex
X-PUBLISHED-TTL:PT1H
BEGIN:VTIMEZONE
TZID:Europe/Paris
BEGIN:DAYLIGHT
TZOFFSETFROM:+0100
TZOFFSETTO:+0200
TZNAME:CEST
DTSTART:20250330T010000
END:DAYLIGHT
BEGIN:STANDARD
TZOFFSETFROM:+0200
TZOFFSETTO:+0100
TZNAME:CET
DTSTART:20251026T010000
END:STANDARD
BEGIN:DAYLIGHT
TZOFFSETFROM:+0100
TZOFFSETTO:+0200
TZNAME:CEST
DTSTART:20260329T010000
END:DAYLIGHT
BEGIN:STANDARD
TZOFFSETFROM:+0200
TZOFFSETTO:+0100
TZNAME:CET
DTSTART:20261025T010000
END:STANDARD
BEGIN:DAYLIGHT
TZOFFSETFROM:+0100
TZOFFSETTO:+0200
TZNAME:CEST
DTSTART:20270328T010000
END:DAYLIGHT
BEGIN:STANDARD
TZOFFSETFROM:+0200
TZOFFSETTO:+0100
TZNAME:CET
DTSTART:20271031T010000
END:STANDARD
END:VTIMEZONE
BEGIN:VEVENT
DTSTART;VALUE=DATE:20260211
DTEND;VALUE=DATE:20260215
DTSTAMP:20260420T213904
CREATED:20260121T074657Z
LAST-MODIFIED:20260121T074657Z
UID:16610-1770768000-1771113599@www.mairie-luchon.fr
SUMMARY:WINTER PYLOT 2026
DESCRIPTION:PROGRAMME : \nTESTIVAL SKI ALPIN\, SKI DE RANDONNÉE & SNOWBOARD \nJeudi & vendredi – 9h à 15h Superbagnères : Stands des fabricants de ski devant la billetterie & essais gratuits de skis alpins & skis de rando sur le domaine skiable et sur les parcours de ski de rando (forfait remontées mécaniques à acheter sur place) \nJeudi à 18h à Superbagnères : Compétition amicale de ski de rando (inscription 5€ à régler sur place) avec une remise des prix & collation suivie d’une descente au flambeau et feu d’artifice \nMercredi au samedi – 17h à 21h Casino de Luchon\, salle Verrière : Salon des professionnels (entrée libre) rencontres avec les professionnels de la montagne\, le bureau des Guides de Luchon\, les prestataires locaux\, les accompagnateurs montagne\, l’ESF de Superbagnères. \nTESTIVAL PARAPENTE \nMercredi au samedi – 17h à 21h – Casino de Luchon\, salle Verrière : Salon des professionnels : rencontres avec les fabricants de parapente\, boutiques\, écoles de parapente\, clubs (entrée libre) \nMercredi au vendredi – 17h à 21h – Superbagnères : Essais gratuits d’équipements parapente (prêt de matériel la veille au salon des professionnels pour essais en vol le lendemain sur le site de Superbagnères – forfait remontées mécaniques à acheter sur place) \nCONFÉRENCES\, PROJECTIONS DE FILMS & RENCONTRES \nMercredi 11 février – Casino de Luchon  – Entrée libre : \n18h : Table ronde «Enjeux des pratiques sportives de montagne au féminin» coanimée par Charlotte Roura et Lola Niccolai\, représentantes de la commission féminine FFVL et de l’association Pyrelles \n19h : La préparation mentale en parapente – Charlotte Roura \n20h : Apéritif de bienvenue offert \n20h30 : Projection des films primés au Festival Icare 2025 \nJeudi 12 février – Casino de Luchon – Entrée libre : \n17h : conférence de Jean-Jacques Doucet « Comment notre cerveau gère le risque » \n18h30 : conférence sur les concepts et les usages des sellettes/cocons par Eric Roussel (Designer Neo) et Marc Boyer (pilote tests) \n20h00 : apéritif offert par Neo Gin Skywalk \n20h30 : projection du film «ALPS»\, la traversée des Alpes d’Annecy à Innsbruck en vol bivouac avec Tim Alongi et Clement Cruciani. Film Neo «Performance Project» \nVendredi 13 février – Casino de Luchon – Entrée libre : \n18h : « soirée Montagne » avec le Bureau des Guides de Luchon\, film sur le métier de guide dans les Pyrénées & intervention du PGHM de Luchon sur les secours en montagne et les recommandations \n19h : conférence de Pierre René\, glaciologique\, sur les glaciers Pyrénées \n20h00 : apéritif offert \n20h30 : projection du film « 28.77» de Valentin Cazaux sur la découverte des Pyrénées et de la folle idée de skier les 4 faces du célèbre Pic du Midi de Bigorre \nSamedi 14 février – Casino de Luchon : \n19h : Apéritif offert \n20h : repas avec tous les participants\, exposants\, bénévoles. Inscription les jours précédents sur place à l’accueil du Casino (participation 15€/ personne) \n21h : Projection des films primés au Festival Icare 2025
URL:https://www.mairie-luchon.fr/event/winter-pylot-2026/
LOCATION:Luchon-Superbagnères & Casino
CATEGORIES:Sport
ATTACH;FMTTYPE=image/png:https://www.mairie-luchon.fr/wp-content/uploads/2026/01/Agenda-fevrier-mars-2026-4-WINTER-PYLOT.png
END:VEVENT
END:VCALENDAR