BEGIN:VCALENDAR
VERSION:2.0
PRODID:-//Luchon - ECPv6.15.20//NONSGML v1.0//EN
CALSCALE:GREGORIAN
METHOD:PUBLISH
X-ORIGINAL-URL:https://www.mairie-luchon.fr
X-WR-CALDESC:Évènements pour Luchon
REFRESH-INTERVAL;VALUE=DURATION:PT1H
X-Robots-Tag:noindex
X-PUBLISHED-TTL:PT1H
BEGIN:VTIMEZONE
TZID:Europe/Paris
BEGIN:DAYLIGHT
TZOFFSETFROM:+0100
TZOFFSETTO:+0200
TZNAME:CEST
DTSTART:20250330T010000
END:DAYLIGHT
BEGIN:STANDARD
TZOFFSETFROM:+0200
TZOFFSETTO:+0100
TZNAME:CET
DTSTART:20251026T010000
END:STANDARD
BEGIN:DAYLIGHT
TZOFFSETFROM:+0100
TZOFFSETTO:+0200
TZNAME:CEST
DTSTART:20260329T010000
END:DAYLIGHT
BEGIN:STANDARD
TZOFFSETFROM:+0200
TZOFFSETTO:+0100
TZNAME:CET
DTSTART:20261025T010000
END:STANDARD
BEGIN:DAYLIGHT
TZOFFSETFROM:+0100
TZOFFSETTO:+0200
TZNAME:CEST
DTSTART:20270328T010000
END:DAYLIGHT
BEGIN:STANDARD
TZOFFSETFROM:+0200
TZOFFSETTO:+0100
TZNAME:CET
DTSTART:20271031T010000
END:STANDARD
END:VTIMEZONE
BEGIN:VEVENT
DTSTART;TZID=Europe/Paris:20260227T090000
DTEND;TZID=Europe/Paris:20260227T113000
DTSTAMP:20260420T214827
CREATED:20260127T132644Z
LAST-MODIFIED:20260127T132727Z
UID:16783-1772182800-1772191800@www.mairie-luchon.fr
SUMMARY:MUSCULATION SANTÉ
DESCRIPTION:Cardio-training et renforcement musculaire : venez améliorer votre capital santé. \nInscriptions au Bureau des Sports (En matinée – places limitées). Tél : 05 61 94 68 75
URL:https://www.mairie-luchon.fr/event/musculation-sante-11/
LOCATION:Salle Clément Ader\, Place Léon Elissalde\, Bagnères-de-Luchon\, 31110\, France
CATEGORIES:Sport
ATTACH;FMTTYPE=image/png:https://www.mairie-luchon.fr/wp-content/uploads/2026/01/Agenda-fevrier-mars-2026-25-Musculation-sante.png
END:VEVENT
BEGIN:VEVENT
DTSTART;TZID=Europe/Paris:20260227T100000
DTEND;TZID=Europe/Paris:20260227T113000
DTSTAMP:20260420T214827
CREATED:20260127T133101Z
LAST-MODIFIED:20260127T133101Z
UID:16785-1772186400-1772191800@www.mairie-luchon.fr
SUMMARY:JARDIN AQUATIQUE
DESCRIPTION:Dans un bassin chauffé\, aménagé avec du matériel ludique : Toboggan\, tunnel\, tapis flottant et bien plus encore ! (Présence d’un adulte obligatoire – Bonnet de bain). De 4 à 11 ans \nInscriptions au bureau des sports (En matinée – Places limitées). Tél 05 61 94 68 75
URL:https://www.mairie-luchon.fr/event/jardin-aquatique-66/
LOCATION:Bassin Chambert\, Cours des Quinconces\, Bagnères-de-Luchon\, 31110\, France
CATEGORIES:Enfant,Sport
ATTACH;FMTTYPE=image/png:https://www.mairie-luchon.fr/wp-content/uploads/2026/01/Agenda-fevrier-mars-2026-32-Jardin-aquatique.png
END:VEVENT
BEGIN:VEVENT
DTSTART;TZID=Europe/Paris:20260227T140000
DTEND;TZID=Europe/Paris:20260227T163000
DTSTAMP:20260420T214827
CREATED:20260127T133540Z
LAST-MODIFIED:20260127T133540Z
UID:16787-1772200800-1772209800@www.mairie-luchon.fr
SUMMARY:DÉCOUVERTE DES SENTIERS DU LUCHONNAIS
DESCRIPTION:Boucle au départ du Lac de Badech – Cascade de Juzet-de Luchon  : Venez découvrir la beauté sereine du Luchonnais lors d’une escapade inoubliable. Laissez-vous enchanter par la richesse des paysages qui vous entourent. Randonnée modérée. Bonne condition physique. Équipement : des chaussures confortables et un sac à dos léger – Prévoir de l’eau et des encas – Départ Parking lac de Badech (Nord) \nInscriptions au bureau des Sports (En matinée)- Tél : 05 61 94 68 75
URL:https://www.mairie-luchon.fr/event/decouverte-des-sentiers-du-luchonnais-3/
LOCATION:Lac de Badech\, Bagnères de Luchon\, 31110\, France
CATEGORIES:Sport
ATTACH;FMTTYPE=image/png:https://www.mairie-luchon.fr/wp-content/uploads/2026/01/Agenda-fevrier-mars-2026-33-Decouverte-des-sentiers-du-Luchonnais-Cascade-Ju.png
END:VEVENT
END:VCALENDAR