BEGIN:VCALENDAR
VERSION:2.0
PRODID:-//Luchon - ECPv6.15.20//NONSGML v1.0//EN
CALSCALE:GREGORIAN
METHOD:PUBLISH
X-WR-CALNAME:Luchon
X-ORIGINAL-URL:https://www.mairie-luchon.fr
X-WR-CALDESC:Évènements pour Luchon
REFRESH-INTERVAL;VALUE=DURATION:PT1H
X-Robots-Tag:noindex
X-PUBLISHED-TTL:PT1H
BEGIN:VTIMEZONE
TZID:Europe/Paris
BEGIN:DAYLIGHT
TZOFFSETFROM:+0100
TZOFFSETTO:+0200
TZNAME:CEST
DTSTART:20240331T010000
END:DAYLIGHT
BEGIN:STANDARD
TZOFFSETFROM:+0200
TZOFFSETTO:+0100
TZNAME:CET
DTSTART:20241027T010000
END:STANDARD
BEGIN:DAYLIGHT
TZOFFSETFROM:+0100
TZOFFSETTO:+0200
TZNAME:CEST
DTSTART:20250330T010000
END:DAYLIGHT
BEGIN:STANDARD
TZOFFSETFROM:+0200
TZOFFSETTO:+0100
TZNAME:CET
DTSTART:20251026T010000
END:STANDARD
BEGIN:DAYLIGHT
TZOFFSETFROM:+0100
TZOFFSETTO:+0200
TZNAME:CEST
DTSTART:20260329T010000
END:DAYLIGHT
BEGIN:STANDARD
TZOFFSETFROM:+0200
TZOFFSETTO:+0100
TZNAME:CET
DTSTART:20261025T010000
END:STANDARD
END:VTIMEZONE
BEGIN:VEVENT
DTSTART;TZID=Europe/Paris:20251021T143000
DTEND;TZID=Europe/Paris:20251021T190000
DTSTAMP:20260425T184542
CREATED:20250924T151624Z
LAST-MODIFIED:20250924T151624Z
UID:15909-1761057000-1761073200@www.mairie-luchon.fr
SUMMARY:CONCOURS AMICAL DE PÉTANQUE À LA MÊLÉE
DESCRIPTION:Concours en doublette qui se déroule en quatre parties.\nInscriptions sur place – Jet du but à 15h00 – Buvette \nTEL : 06 88 59 33 52
URL:https://www.mairie-luchon.fr/event/concours-amical-de-petanque-a-la-melee-42/
LOCATION:Boulodrome\, Pl. Richelieu\, Bagnères-de-Luchon\, 31110\, France
CATEGORIES:Sport
ATTACH;FMTTYPE=image/png:https://www.mairie-luchon.fr/wp-content/uploads/2024/09/Septembre-2024-20.png
END:VEVENT
BEGIN:VEVENT
DTSTART;TZID=Europe/Paris:20251021T100000
DTEND;TZID=Europe/Paris:20251021T120000
DTSTAMP:20260425T184542
CREATED:20250924T150707Z
LAST-MODIFIED:20250924T150707Z
UID:15906-1761040800-1761048000@www.mairie-luchon.fr
SUMMARY:JARDIN AQUATIQUE
DESCRIPTION:Dans un bassin chauffé\, aménagé avec du matériel ludique : toboggan\, tunnel\, tapis flottant… (Présence d’un adulte obligatoire – Bonnet de bain requis). \nInscriptions au Bureau des Sports (places limitées). TEL : 05 61 94 68 75 \nDe 4 à 10 ans \n 
URL:https://www.mairie-luchon.fr/event/jardin-aquatique-51/
LOCATION:Bassin Chambert\, Cours des Quinconces\, Bagnères-de-Luchon\, 31110\, France
CATEGORIES:Sport
ATTACH;FMTTYPE=image/png:https://www.mairie-luchon.fr/wp-content/uploads/2025/09/Agenda-oct.-nov.-2025-16-JARDIN-AQUATIQUE.png
END:VEVENT
BEGIN:VEVENT
DTSTART;TZID=Europe/Paris:20251016T143000
DTEND;TZID=Europe/Paris:20251016T190000
DTSTAMP:20260425T184542
CREATED:20250924T145018Z
LAST-MODIFIED:20250924T145018Z
UID:15898-1760625000-1760641200@www.mairie-luchon.fr
SUMMARY:CONCOURS AMICAL DE PÉTANQUE
DESCRIPTION:Concours en doublette qui se déroule en quatre parties.\nInscriptions sur place – Jet du but à 15h00 – Buvette \nTEL : 06 88 59 33 52
URL:https://www.mairie-luchon.fr/event/concours-amical-de-petanque-31/
LOCATION:Boulodrome\, Pl. Richelieu\, Bagnères-de-Luchon\, 31110\, France
CATEGORIES:Sport
ATTACH;FMTTYPE=image/png:https://www.mairie-luchon.fr/wp-content/uploads/2025/08/Agenda-septembre-2025-1-Petanque-.png
END:VEVENT
BEGIN:VEVENT
DTSTART;TZID=Europe/Paris:20251014T143000
DTEND;TZID=Europe/Paris:20251014T190000
DTSTAMP:20260425T184542
CREATED:20250924T143050Z
LAST-MODIFIED:20250924T143050Z
UID:15893-1760452200-1760468400@www.mairie-luchon.fr
SUMMARY:CONCOURS AMICAL DE PÉTANQUE À LA MÊLÉE
DESCRIPTION:Concours en doublette qui se déroule en quatre parties.\nInscriptions sur place – Jet du but à 15h00 – Buvette \nTEL : 06 88 59 33 52
URL:https://www.mairie-luchon.fr/event/concours-amical-de-petanque-a-la-melee-41/
LOCATION:Boulodrome\, Pl. Richelieu\, Bagnères-de-Luchon\, 31110\, France
CATEGORIES:Sport
ATTACH;FMTTYPE=image/png:https://www.mairie-luchon.fr/wp-content/uploads/2025/08/Agenda-septembre-2025-1-Petanque-.png
END:VEVENT
BEGIN:VEVENT
DTSTART;VALUE=DATE:20251012
DTEND;VALUE=DATE:20251013
DTSTAMP:20260425T184542
CREATED:20250924T134407Z
LAST-MODIFIED:20250924T134629Z
UID:15889-1760227200-1760313599@www.mairie-luchon.fr
SUMMARY:TOUS UNIS CONTRE LE CANCER - OCTOBRE ROSE
DESCRIPTION:OCTOBRE ROSE REVIENT A LUCHON !\nL’association ELLES vous donne rendez-vous Dimanche 12 octobre au Parc du Casino de Luchon pour la 6e édition de la marche/course solidaire MY ROSE !\nDès 9h\, ouverture du village My Rose avec stands d’information et de sensibilisation\, à 10h\, l’association ELLES vous propose un échauffement en musique suivi du top départ. \nNouveauté cette année : coupez vos cheveux sur place pour l’asso Fake Hair\, Don’t Care\, qui crée des perruques pour les personnes atteintes d’un cancer.\nVenez bouger\, vous informer et soutenir la recherche dans une ambiance engagée et conviviale ! \nTarif : 10 € (+18 ans) / 8 € (12-18 ans) -12 ans : gratuit. \n06 43 57 26 14\n06 66 92 79 93\nwww.myroseluchon.com
URL:https://www.mairie-luchon.fr/event/tous-unis-contre-le-cancer-o-c-to-b-r-e-r-o-s-e/
LOCATION:Parc du Casino\, 1 place Richelieu\, Bagnères-de-Luchon
CATEGORIES:Solidaire,Sport
ATTACH;FMTTYPE=image/png:https://www.mairie-luchon.fr/wp-content/uploads/2025/09/Agenda-oct.-nov.-2025-11-TOUS-UNIS-CONTRE-LE-CANCER.png
END:VEVENT
BEGIN:VEVENT
DTSTART;VALUE=DATE:20251011
DTEND;VALUE=DATE:20251012
DTSTAMP:20260425T184542
CREATED:20250924T133707Z
LAST-MODIFIED:20250924T133707Z
UID:15886-1760140800-1760227199@www.mairie-luchon.fr
SUMMARY:TOUS UNIS CONTRE LE CANCER - TRAIL ET RANDONNÉE
DESCRIPTION:L’association « Benoit un Sourire pour la Vie » organise le « Trail Adishatz Cancer » : des animations\, des stands d’informations vous seront proposés tout au long de la journée. Alors venez participer à une bonne cause tout en participant à un trail adapté\, une balade pédestre\, ainsi qu’une course pour les enfants\, clôturée par un goûter. \nInscriptions : www.benoit.page/2022  Facebook « Benoit\, un Sourire pour la Vie » \nTEL : 06 19 65 17 47 / 06 28 30 08 81
URL:https://www.mairie-luchon.fr/event/tous-unis-contre-le-cancer-trail-et-randonnee-2/
LOCATION:Parc du Casino\, 1 place Richelieu\, Bagnères-de-Luchon
CATEGORIES:Solidaire,Sport
ATTACH;FMTTYPE=image/png:https://www.mairie-luchon.fr/wp-content/uploads/2025/09/Agenda-oct.-nov.-2025-9-TOUS-UNIS-CONTRE-LE-CANCER.png
END:VEVENT
BEGIN:VEVENT
DTSTART;VALUE=DATE:20251011
DTEND;VALUE=DATE:20251012
DTSTAMP:20260425T184542
CREATED:20250924T133016Z
LAST-MODIFIED:20250924T133016Z
UID:15884-1760140800-1760227199@www.mairie-luchon.fr
SUMMARY:COMPÉTITION DE GOLF
DESCRIPTION:COMPÉTITION LE MONTAGNARD\nScramble à 2 \nGreen-fee 42€ – Droit de jeu 15€
URL:https://www.mairie-luchon.fr/event/competition-de-golf-15/
LOCATION:Golf de Luchon
CATEGORIES:Sport
ATTACH;FMTTYPE=image/png:https://www.mairie-luchon.fr/wp-content/uploads/2025/09/Agenda-oct.-nov.-2025-4-Competition-de-golf.png
END:VEVENT
BEGIN:VEVENT
DTSTART;TZID=Europe/Paris:20251009T143000
DTEND;TZID=Europe/Paris:20251009T190000
DTSTAMP:20260425T184542
CREATED:20250924T131615Z
LAST-MODIFIED:20250924T131615Z
UID:15879-1760020200-1760036400@www.mairie-luchon.fr
SUMMARY:CONCOURS AMICAL DE PÉTANQUE
DESCRIPTION:Concours en doublette qui se déroule en quatre parties.\nInscriptions sur place – Jet du but à 15h00 – Buvette
URL:https://www.mairie-luchon.fr/event/concours-amical-de-petanque-30/
LOCATION:Boulodrome\, Pl. Richelieu\, Bagnères-de-Luchon\, 31110\, France
CATEGORIES:Sport
ATTACH;FMTTYPE=image/png:https://www.mairie-luchon.fr/wp-content/uploads/2025/05/Agenda-juin-2025-6-Concours-de-petanque-amical.png
END:VEVENT
BEGIN:VEVENT
DTSTART;TZID=Europe/Paris:20251007T143000
DTEND;TZID=Europe/Paris:20251007T183000
DTSTAMP:20260425T184543
CREATED:20250924T130030Z
LAST-MODIFIED:20250924T130030Z
UID:15872-1759847400-1759861800@www.mairie-luchon.fr
SUMMARY:CONCOURS AMICAL DE PÉTANQUE À LA MÊLÉE
DESCRIPTION:Concours en doublette qui se déroule en quatre parties.\nInscriptions sur place – Jet du but à 15h00 – Buvette
URL:https://www.mairie-luchon.fr/event/concours-amical-de-petanque-a-la-melee-40/
LOCATION:Boulodrome\, Pl. Richelieu\, Bagnères-de-Luchon\, 31110\, France
CATEGORIES:Sport
ATTACH;FMTTYPE=image/png:https://www.mairie-luchon.fr/wp-content/uploads/2025/08/Agenda-septembre-2025-1-Petanque-.png
END:VEVENT
BEGIN:VEVENT
DTSTART;VALUE=DATE:20251005
DTEND;VALUE=DATE:20251006
DTSTAMP:20260425T184543
CREATED:20250924T124222Z
LAST-MODIFIED:20250924T133046Z
UID:15866-1759622400-1759708799@www.mairie-luchon.fr
SUMMARY:COMPÉTITION DE GOLF
DESCRIPTION:COUPE DU RESTAURANT DE LA PIQUE. Scramble à 2 \nGreen-fee 42€ – Droit de jeu 15€
URL:https://www.mairie-luchon.fr/event/competition-de-golf-14/
LOCATION:Golf de Luchon
CATEGORIES:Sport
ATTACH;FMTTYPE=image/png:https://www.mairie-luchon.fr/wp-content/uploads/2025/09/Agenda-oct.-nov.-2025-4-Competition-de-golf.png
END:VEVENT
BEGIN:VEVENT
DTSTART;TZID=Europe/Paris:20251004T100000
DTEND;TZID=Europe/Paris:20251004T150000
DTSTAMP:20260425T184543
CREATED:20250924T131011Z
LAST-MODIFIED:20250924T131011Z
UID:15860-1759572000-1759590000@www.mairie-luchon.fr
SUMMARY:PROSHOP ET BOURSE AUX SKIS
DESCRIPTION:Vente de matériel neuf et d’occasion organisée par les ski clubs de Luchon-Superbagnères\, Peyragudes et Le Mourtis. \nDe nombreux lots à gagner avec une super tombola ! \nRestauration possible sur place.
URL:https://www.mairie-luchon.fr/event/proshop-et-bourse-aux-skis/
LOCATION:Gymnase\, Rue Ramon\, Bagnères-de-Luchon\, 31110\, France
CATEGORIES:Sport
ATTACH;FMTTYPE=image/png:https://www.mairie-luchon.fr/wp-content/uploads/2025/09/Agenda-oct.-nov.-2025-2-Salon-du-champignon.png
END:VEVENT
BEGIN:VEVENT
DTSTART;TZID=Europe/Paris:20250930T143000
DTEND;TZID=Europe/Paris:20250930T183000
DTSTAMP:20260425T184543
CREATED:20250826T095253Z
LAST-MODIFIED:20250826T095323Z
UID:15568-1759242600-1759257000@www.mairie-luchon.fr
SUMMARY:CONCOURS AMICAL DE PÉTANQUE À LA MÊLÉE
DESCRIPTION:Concours en doublette qui se déroule en quatre parties.\nInscriptions sur place – Jet du but à 15h00 – Buvette. \nTél : 06 88 59 33 52
URL:https://www.mairie-luchon.fr/event/concours-amical-de-petanque-a-la-melee-39/
LOCATION:Boulodrome\, Pl. Richelieu\, Bagnères-de-Luchon\, 31110\, France
CATEGORIES:Sport
ATTACH;FMTTYPE=image/png:https://www.mairie-luchon.fr/wp-content/uploads/2025/08/Agenda-septembre-2025-1-Petanque-.png
END:VEVENT
BEGIN:VEVENT
DTSTART;VALUE=DATE:20250928
DTEND;VALUE=DATE:20250929
DTSTAMP:20260425T184543
CREATED:20250826T095035Z
LAST-MODIFIED:20250826T095035Z
UID:15566-1759017600-1759103999@www.mairie-luchon.fr
SUMMARY:COMPÉTITION DE GOLF
DESCRIPTION:COMPÉTITION AXA\nFormule de jeu : Scramble à 2 \nGreen-fee 42€ – Droit de jeu 15€ \nTél : 05 61 79 03 27
URL:https://www.mairie-luchon.fr/event/competition-de-golf-13/
LOCATION:Golf de Luchon
CATEGORIES:Sport
ATTACH;FMTTYPE=image/png:https://www.mairie-luchon.fr/wp-content/uploads/2025/08/Agenda-septembre-2025-6-Golf-.png
END:VEVENT
BEGIN:VEVENT
DTSTART;TZID=Europe/Paris:20250925T143000
DTEND;TZID=Europe/Paris:20250925T183000
DTSTAMP:20260425T184543
CREATED:20250826T092239Z
LAST-MODIFIED:20250925T081513Z
UID:15555-1758810600-1758825000@www.mairie-luchon.fr
SUMMARY:CONCOURS AMICAL DE PÉTANQUE
DESCRIPTION:Concours en doublette qui se déroule en quatre parties.\nInscriptions sur place – Jet du but à 15h00 – Buvette. \nTél : 06 88 59 33 52
URL:https://www.mairie-luchon.fr/event/concours-amical-de-petanque-a-la-melee-37/
LOCATION:Boulodrome\, Pl. Richelieu\, Bagnères-de-Luchon\, 31110\, France
CATEGORIES:Sport
ATTACH;FMTTYPE=image/png:https://www.mairie-luchon.fr/wp-content/uploads/2025/08/Agenda-septembre-2025-1-Petanque-.png
END:VEVENT
BEGIN:VEVENT
DTSTART;TZID=Europe/Paris:20250923T143000
DTEND;TZID=Europe/Paris:20250923T183000
DTSTAMP:20260425T184543
CREATED:20250826T092809Z
LAST-MODIFIED:20250826T092856Z
UID:15558-1758637800-1758652200@www.mairie-luchon.fr
SUMMARY:CONCOURS AMICAL DE PÉTANQUE À LA MÊLÉE
DESCRIPTION:Concours en doublette qui se déroule en quatre parties.\nInscriptions sur place – Jet du but à 15h00 – Buvette. \nTél : 06 88 59 33 52
URL:https://www.mairie-luchon.fr/event/concours-amical-de-petanque-a-la-melee-38/
LOCATION:Boulodrome\, Pl. Richelieu\, Bagnères-de-Luchon\, 31110\, France
CATEGORIES:Sport
ATTACH;FMTTYPE=image/png:https://www.mairie-luchon.fr/wp-content/uploads/2024/09/Septembre-2024-2.png
END:VEVENT
BEGIN:VEVENT
DTSTART;VALUE=DATE:20250921
DTEND;VALUE=DATE:20250922
DTSTAMP:20260425T184543
CREATED:20250826T085852Z
LAST-MODIFIED:20250826T091337Z
UID:15545-1758412800-1758499199@www.mairie-luchon.fr
SUMMARY:COMPÉTITION DE GOLF
DESCRIPTION:COMPÉTITION HYUNDAI SAINT-GAUDENS\nFormule de jeu : Stableford \nGreen-fee 42€ – Droit de jeu 15€ \nTél : 05 61 79 03 27
URL:https://www.mairie-luchon.fr/event/competition-de-golf-12/
LOCATION:Golf de Luchon
CATEGORIES:Sport
ATTACH;FMTTYPE=image/png:https://www.mairie-luchon.fr/wp-content/uploads/2025/08/Agenda-septembre-2025-6-Golf-.png
END:VEVENT
BEGIN:VEVENT
DTSTART;TZID=Europe/Paris:20250920T110000
DTEND;TZID=Europe/Paris:20250920T180000
DTSTAMP:20260425T184543
CREATED:20250915T070356Z
LAST-MODIFIED:20250915T070356Z
UID:15772-1758366000-1758391200@www.mairie-luchon.fr
SUMMARY:Grande Chistera d’Or à Luchon
DESCRIPTION:Venez assister à une compétition exceptionnelle de chistera\, ce sport spectaculaire qui allie vitesse\, adresse et tradition !
URL:https://www.mairie-luchon.fr/event/grande-chistera-dor-a-luchon/
LOCATION:Fronton\, Bagnères de Luchon\, Haute-Garonne\, 31110\, France
CATEGORIES:Sport
ATTACH;FMTTYPE=image/png:https://www.mairie-luchon.fr/wp-content/uploads/2025/09/Agenda-septembre-2025-grand-chistera-luchon.png
END:VEVENT
BEGIN:VEVENT
DTSTART;TZID=Europe/Paris:20250920T110000
DTEND;TZID=Europe/Paris:20250920T180000
DTSTAMP:20260425T184543
CREATED:20250912T082207Z
LAST-MODIFIED:20250912T082207Z
UID:15759-1758366000-1758391200@www.mairie-luchon.fr
SUMMARY:GRAND CHISTERA D'OR
DESCRIPTION:
URL:https://www.mairie-luchon.fr/event/grand-chistera-dor/
LOCATION:Fronton\, Bagnères de Luchon\, Haute-Garonne\, 31110\, France
CATEGORIES:Sport
ATTACH;FMTTYPE=image/png:https://www.mairie-luchon.fr/wp-content/uploads/2025/09/Agenda-septembre-2025-18-Chistera.png
END:VEVENT
BEGIN:VEVENT
DTSTART;TZID=Europe/Paris:20250918T143000
DTEND;TZID=Europe/Paris:20250918T190000
DTSTAMP:20260425T184543
CREATED:20250826T082925Z
LAST-MODIFIED:20250826T083134Z
UID:15532-1758205800-1758222000@www.mairie-luchon.fr
SUMMARY:CONCOURS AMICAL DE PÉTANQUE
DESCRIPTION:Concours en doublette qui se déroule en quatre parties.\nInscriptions sur place – Jet du but à 15h00 – Buvette \nTél : 06 88 59 33 52
URL:https://www.mairie-luchon.fr/event/concours-amical-de-petanque-29/
LOCATION:Boulodrome\, Pl. Richelieu\, Bagnères-de-Luchon\, 31110\, France
CATEGORIES:Sport
ATTACH;FMTTYPE=image/png:https://www.mairie-luchon.fr/wp-content/uploads/2025/05/Agenda-juin-2025-6-Concours-de-petanque-amical.png
END:VEVENT
BEGIN:VEVENT
DTSTART;TZID=Europe/Paris:20250916T143000
DTEND;TZID=Europe/Paris:20250916T190000
DTSTAMP:20260425T184543
CREATED:20250826T075728Z
LAST-MODIFIED:20250826T075728Z
UID:15530-1758033000-1758049200@www.mairie-luchon.fr
SUMMARY:CONCOURS AMICAL DE PÉTANQUE À LA MÊLÉE
DESCRIPTION:Concours en doublette qui se déroule en quatre parties.\nInscriptions sur place – Jet du but à 15h00 – Buvette \nTél : 06 88 59 33 52
URL:https://www.mairie-luchon.fr/event/concours-amical-de-petanque-a-la-melee-36/
LOCATION:Boulodrome\, Pl. Richelieu\, Bagnères-de-Luchon\, 31110\, France
CATEGORIES:Sport
ATTACH;FMTTYPE=image/png:https://www.mairie-luchon.fr/wp-content/uploads/2025/08/Agenda-septembre-2025-1-Petanque-.png
END:VEVENT
BEGIN:VEVENT
DTSTART;VALUE=DATE:20250913
DTEND;VALUE=DATE:20250915
DTSTAMP:20260425T184543
CREATED:20250825T150938Z
LAST-MODIFIED:20250902T093512Z
UID:15522-1757721600-1757894399@www.mairie-luchon.fr
SUMMARY:COUPE DE FRANCE DE VTT
DESCRIPTION:Du vendredi 12 au dimanche 14 septembre 2025\, Luchon accueille une manche de la Coupe de France VTT / VTTAE\, organisée par le Luchon Louron Cyclisme. Un grand rendez-vous sportif au cœur des Pyrénées qui réunira les meilleurs spécialistes de la discipline ! \nProgramme du week-end\nVendredi 12 septembre \n\n\nAccueil des participants \n\n\nRemise des dossards \n\n\nInstallation des équipes sur les paddocks \n\n\nDiffusion du plan de course \n\n\nSamedi 13 septembre – Compétitions Jour 1 \n\n\nDès 7h30 : début des reconnaissances \n\n\nRuns chronométrés tout au long de la journée \n\n\nVers 17h : fin des runs sur la raquette d’arrivée à Luchon \n\n\nEn soirée : apéritif et moment convivial devant la scène principale \n\n\nBuvette ouverte à côté de la raquette d’arrivée \n\n\nDimanche 14 septembre – Compétitions Jour 2 \n\n\nDès 7h30 : début des reconnaissances \n\n\nRuns chronométrés \n\n\nVers 16h : fin des runs sur la raquette d’arrivée à Luchon \n\n\nAnimation musicale et buvette à côté de la raquette d’arrivée \n\n\nProclamation des résultats et remise des prix sur la scène principale \n\n\nUn rendez-vous sportif et festif\nCette étape de la Coupe de France VTT / VTTAE sera l’occasion de vibrer au rythme des descentes spectaculaires et de soutenir les athlètes dans une ambiance festive au cœur de Luchon. \nPassionnés de vélo\, amateurs de sensations fortes ou simples curieux\, venez nombreux encourager les champions et profiter de ce grand week-end sportif ! \nParcours en montagne – Arrivée Square Lauret \nParking des vélos Parc des Thermes \nTél : 06 11 72 19 81
URL:https://www.mairie-luchon.fr/event/coupe-de-france-de-vtt/
LOCATION:Square Lauret\, 24 Allée d'Etigny\, Bagnères-de-Luchon\, 31110\, France
CATEGORIES:Sport
ATTACH;FMTTYPE=image/png:https://www.mairie-luchon.fr/wp-content/uploads/2025/08/Agenda-septembre-2025-8-COUPE-DE-FRANCE-DE-VTT.png
END:VEVENT
BEGIN:VEVENT
DTSTART;VALUE=DATE:20250913
DTEND;VALUE=DATE:20250914
DTSTAMP:20260425T184543
CREATED:20250825T140247Z
LAST-MODIFIED:20250825T140247Z
UID:15513-1757721600-1757807999@www.mairie-luchon.fr
SUMMARY:COMPÉTITION DE GOLF
DESCRIPTION:COUPE LES GALERIES GOURMANDES\nFormule de jeu : Scramble à 2 \nTél : 05 61 79 03 27 \nGreen-fee : 42 € – Droit de jeu : 15 €
URL:https://www.mairie-luchon.fr/event/competition-de-golf-11/
LOCATION:Golf de Luchon
CATEGORIES:Sport
ATTACH;FMTTYPE=image/png:https://www.mairie-luchon.fr/wp-content/uploads/2025/08/Agenda-septembre-2025-6-Golf-.png
END:VEVENT
BEGIN:VEVENT
DTSTART;TZID=Europe/Paris:20250911T143000
DTEND;TZID=Europe/Paris:20250911T190000
DTSTAMP:20260425T184543
CREATED:20250825T135847Z
LAST-MODIFIED:20250825T135847Z
UID:15511-1757601000-1757617200@www.mairie-luchon.fr
SUMMARY:CONCOURS AMICAL DE PÉTANQUE
DESCRIPTION:Concours en doublette qui se déroule en quatre parties.\nInscriptions sur place – Jet du but à 15h00 – Buvette \nTél : 06 88 59 33 52
URL:https://www.mairie-luchon.fr/event/concours-amical-de-petanque-28/
LOCATION:Boulodrome\, Pl. Richelieu\, Bagnères-de-Luchon\, 31110\, France
CATEGORIES:Sport
ATTACH;FMTTYPE=image/png:https://www.mairie-luchon.fr/wp-content/uploads/2025/05/Agenda-juin-2025-2-Concours-de-petanque-a-la-melee.png
END:VEVENT
BEGIN:VEVENT
DTSTART;VALUE=DATE:20250911
DTEND;VALUE=DATE:20250912
DTSTAMP:20260425T184543
CREATED:20250825T134711Z
LAST-MODIFIED:20250825T134711Z
UID:15509-1757548800-1757635199@www.mairie-luchon.fr
SUMMARY:COMPÉTITION DE GOLF
DESCRIPTION:RENCONTRE AMICALE SÉNIORS\nLuchon / Tarbes Les Tumulus\nFormule de jeu : Match play net \nTél : 05 61 79 03 27 \nGreen-fee : 42 € – Droit de jeu 15 €
URL:https://www.mairie-luchon.fr/event/competition-de-golf-10/
LOCATION:Golf de Luchon
CATEGORIES:Sport
ATTACH;FMTTYPE=image/png:https://www.mairie-luchon.fr/wp-content/uploads/2025/08/Agenda-septembre-2025-6-Golf-.png
END:VEVENT
BEGIN:VEVENT
DTSTART;TZID=Europe/Paris:20250909T143000
DTEND;TZID=Europe/Paris:20250909T190000
DTSTAMP:20260425T184543
CREATED:20250825T133707Z
LAST-MODIFIED:20250825T133722Z
UID:15504-1757428200-1757444400@www.mairie-luchon.fr
SUMMARY:CONCOURS AMICAL DE PÉTANQUE À LA MÊLÉE
DESCRIPTION:Concours en doublette qui se déroule en quatre parties.\nInscriptions sur place – Jet du but à 15h00 – Buvette. \nTél : 06 88 59 33 52
URL:https://www.mairie-luchon.fr/event/concours-amical-de-petanque-a-la-melee-35/
LOCATION:Boulodrome\, Pl. Richelieu\, Bagnères-de-Luchon\, 31110\, France
CATEGORIES:Sport
ATTACH;FMTTYPE=image/png:https://www.mairie-luchon.fr/wp-content/uploads/2025/08/Agenda-septembre-2025-1-Petanque-.png
END:VEVENT
BEGIN:VEVENT
DTSTART;VALUE=DATE:20250907
DTEND;VALUE=DATE:20250908
DTSTAMP:20260425T184543
CREATED:20250825T133058Z
LAST-MODIFIED:20250825T133058Z
UID:15500-1757203200-1757289599@www.mairie-luchon.fr
SUMMARY:COMPÉTITION DE GOLF
DESCRIPTION:TROPHÉE MMA\nFormule de jeu : Scramble à 2 \nTél : 05 61 79 03 27 \nGreen-fee 42 € – Droit de jeu 15 €
URL:https://www.mairie-luchon.fr/event/competition-de-golf-9/
LOCATION:Golf de Luchon
CATEGORIES:Sport
ATTACH;FMTTYPE=image/png:https://www.mairie-luchon.fr/wp-content/uploads/2025/08/Agenda-septembre-2025-6-Golf-.png
END:VEVENT
BEGIN:VEVENT
DTSTART;TZID=Europe/Paris:20250904T143000
DTEND;TZID=Europe/Paris:20250904T190000
DTSTAMP:20260425T184543
CREATED:20250825T131556Z
LAST-MODIFIED:20250825T131556Z
UID:15489-1756996200-1757012400@www.mairie-luchon.fr
SUMMARY:CONCOURS AMICAL DE PÉTANQUE
DESCRIPTION:Concours en doublette qui se déroule en quatre parties.\nInscriptions sur place – Jet du but à 15h00 – Buvette \nTél : 06 88 59 33 52
URL:https://www.mairie-luchon.fr/event/concours-amical-de-petanque-27/
LOCATION:Boulodrome\, Pl. Richelieu\, Bagnères-de-Luchon\, 31110\, France
CATEGORIES:Sport
ATTACH;FMTTYPE=image/png:https://www.mairie-luchon.fr/wp-content/uploads/2024/09/Septembre-2024-2.png
END:VEVENT
BEGIN:VEVENT
DTSTART;TZID=Europe/Paris:20250902T143000
DTEND;TZID=Europe/Paris:20250902T180000
DTSTAMP:20260425T184543
CREATED:20250825T125810Z
LAST-MODIFIED:20250825T125810Z
UID:15478-1756823400-1756836000@www.mairie-luchon.fr
SUMMARY:CONCOURS AMICAL DE PÉTANQUE À LA MÊLÉE
DESCRIPTION:Concours en doublette qui se déroule en quatre parties.\nInscriptions sur place – Jet du but à 15h00 – Buvette. \nTél : 06 88 59 33 52
URL:https://www.mairie-luchon.fr/event/concours-amical-de-petanque-a-la-melee-34/
LOCATION:Boulodrome\, Pl. Richelieu\, Bagnères-de-Luchon\, 31110\, France
CATEGORIES:Sport
ATTACH;FMTTYPE=image/png:https://www.mairie-luchon.fr/wp-content/uploads/2025/08/Agenda-septembre-2025-1-Petanque-.png
END:VEVENT
BEGIN:VEVENT
DTSTART;VALUE=DATE:20250831
DTEND;VALUE=DATE:20250901
DTSTAMP:20260425T184543
CREATED:20250725T125047Z
LAST-MODIFIED:20250728T075524Z
UID:15337-1756598400-1756684799@www.mairie-luchon.fr
SUMMARY:COMPÉTITION DE GOLF
DESCRIPTION:RYDER CUP FRANCE/ESPAGNE\nFormule de jeu : Match play \nTél : 05 61 79 03 27
URL:https://www.mairie-luchon.fr/event/competition-de-golf-8/
LOCATION:Golf de Luchon
CATEGORIES:Sport
ATTACH;FMTTYPE=image/png:https://www.mairie-luchon.fr/wp-content/uploads/2025/07/Agenda-aout-2025-3-Golf-.png
END:VEVENT
BEGIN:VEVENT
DTSTART;TZID=Europe/Paris:20250827T150000
DTEND;TZID=Europe/Paris:20250827T200000
DTSTAMP:20260425T184543
CREATED:20250725T123721Z
LAST-MODIFIED:20250725T123721Z
UID:15332-1756306800-1756324800@www.mairie-luchon.fr
SUMMARY:CONCOURS AMICAL DE PÉTANQUE À LA MÊLÉE
DESCRIPTION:Concours en doublette qui se déroule en quatre parties. (Adultes)\nInscriptions sur place – Jet du but à 15h00 – \nBuvette. \nTél : 06 88 59 33 52
URL:https://www.mairie-luchon.fr/event/concours-amical-de-petanque-a-la-melee-33/
LOCATION:Boulodrome\, Pl. Richelieu\, Bagnères-de-Luchon\, 31110\, France
CATEGORIES:Sport
ATTACH;FMTTYPE=image/png:https://www.mairie-luchon.fr/wp-content/uploads/2025/05/Agenda-juin-2025-2-Concours-de-petanque-a-la-melee.png
END:VEVENT
END:VCALENDAR