BEGIN:VCALENDAR
VERSION:2.0
PRODID:-//Luchon - ECPv6.15.20//NONSGML v1.0//EN
CALSCALE:GREGORIAN
METHOD:PUBLISH
X-WR-CALNAME:Luchon
X-ORIGINAL-URL:https://www.mairie-luchon.fr
X-WR-CALDESC:Évènements pour Luchon
REFRESH-INTERVAL;VALUE=DURATION:PT1H
X-Robots-Tag:noindex
X-PUBLISHED-TTL:PT1H
BEGIN:VTIMEZONE
TZID:Europe/Paris
BEGIN:DAYLIGHT
TZOFFSETFROM:+0100
TZOFFSETTO:+0200
TZNAME:CEST
DTSTART:20240331T010000
END:DAYLIGHT
BEGIN:STANDARD
TZOFFSETFROM:+0200
TZOFFSETTO:+0100
TZNAME:CET
DTSTART:20241027T010000
END:STANDARD
BEGIN:DAYLIGHT
TZOFFSETFROM:+0100
TZOFFSETTO:+0200
TZNAME:CEST
DTSTART:20250330T010000
END:DAYLIGHT
BEGIN:STANDARD
TZOFFSETFROM:+0200
TZOFFSETTO:+0100
TZNAME:CET
DTSTART:20251026T010000
END:STANDARD
BEGIN:DAYLIGHT
TZOFFSETFROM:+0100
TZOFFSETTO:+0200
TZNAME:CEST
DTSTART:20260329T010000
END:DAYLIGHT
BEGIN:STANDARD
TZOFFSETFROM:+0200
TZOFFSETTO:+0100
TZNAME:CET
DTSTART:20261025T010000
END:STANDARD
END:VTIMEZONE
BEGIN:VEVENT
DTSTART;VALUE=DATE:20250802
DTEND;VALUE=DATE:20250804
DTSTAMP:20260426T025513
CREATED:20250716T131136Z
LAST-MODIFIED:20250716T131158Z
UID:14946-1754092800-1754265599@www.mairie-luchon.fr
SUMMARY:COMPÉTITION DE GOLF LORENZI CUP
DESCRIPTION:Formule de jeu : Stableford \nTél : 05 61 79 03 27
URL:https://www.mairie-luchon.fr/event/competition-de-golf-lorenzi-cup/
LOCATION:Golf de Luchon
CATEGORIES:Sport
ATTACH;FMTTYPE=image/png:https://www.mairie-luchon.fr/wp-content/uploads/2025/07/Agenda-aout-2025-3-Golf-.png
END:VEVENT
BEGIN:VEVENT
DTSTART;TZID=Europe/Paris:20250801T180000
DTEND;TZID=Europe/Paris:20250801T210000
DTSTAMP:20260426T025513
CREATED:20250716T130317Z
LAST-MODIFIED:20250716T130317Z
UID:14944-1754071200-1754082000@www.mairie-luchon.fr
SUMMARY:CONCOURS AMICAL DE PÉTANQUE
DESCRIPTION:Concours de pétanque en doublette\n– En 4 parties – Inscriptions sur place à partir de 17h00 – Casse-croûte inclus – Buvette. \nTél : 06 88 59 33 52
URL:https://www.mairie-luchon.fr/event/concours-amical-de-petanque-25/
LOCATION:Boulodrome\, Pl. Richelieu\, Bagnères-de-Luchon\, 31110\, France
CATEGORIES:Sport
ATTACH;FMTTYPE=image/png:https://www.mairie-luchon.fr/wp-content/uploads/2025/05/Agenda-juin-2025-2-Concours-de-petanque-a-la-melee.png
END:VEVENT
BEGIN:VEVENT
DTSTART;TZID=Europe/Paris:20250730T150000
DTEND;TZID=Europe/Paris:20250730T190000
DTSTAMP:20260426T025513
CREATED:20250624T082424Z
LAST-MODIFIED:20250624T082424Z
UID:14787-1753887600-1753902000@www.mairie-luchon.fr
SUMMARY:CONCOURS AMICAL DE PÉTANQUE À LA MÊLÉE
DESCRIPTION:Concours en doublette qui se déroule en quatre parties.\nInscriptions sur place – Jet du but à 15h00 – Buvette. \nTél  : 06 88 59 33 52
URL:https://www.mairie-luchon.fr/event/concours-amical-de-petanque-a-la-melee-29/
LOCATION:Boulodrome\, Pl. Richelieu\, Bagnères-de-Luchon\, 31110\, France
CATEGORIES:Sport
ATTACH;FMTTYPE=image/png:https://www.mairie-luchon.fr/wp-content/uploads/2025/05/Agenda-juin-2025-6-Concours-de-petanque-amical.png
END:VEVENT
BEGIN:VEVENT
DTSTART;TZID=Europe/Paris:20250726T170000
DTEND;TZID=Europe/Paris:20250726T200000
DTSTAMP:20260426T025513
CREATED:20250624T080136Z
LAST-MODIFIED:20250703T062752Z
UID:14776-1753549200-1753560000@www.mairie-luchon.fr
SUMMARY:GLOBTROTTERS CHISTERA
DESCRIPTION:Nous avons l’honneur d’accueillir des joueurs d’exception. C’est un évènement !!!…\nVenez nombreux. \nTél : 06 81 27 56 35 \n 
URL:https://www.mairie-luchon.fr/event/globtrotters-chistera/
LOCATION:Fronton\, Bagnères de Luchon\, Haute-Garonne\, 31110\, France
CATEGORIES:Sport
ATTACH;FMTTYPE=image/png:https://www.mairie-luchon.fr/wp-content/uploads/2025/03/Agenda-avril-24-Fronton-de-Luchon.png
END:VEVENT
BEGIN:VEVENT
DTSTART;VALUE=DATE:20250726
DTEND;VALUE=DATE:20250728
DTSTAMP:20260426T025513
CREATED:20250624T075730Z
LAST-MODIFIED:20250624T075730Z
UID:14773-1753488000-1753660799@www.mairie-luchon.fr
SUMMARY:COMPÉTITION DE GOLF
DESCRIPTION:24ÈME MASTERS INTERMARCHÉ\nFormule de jeu : 4 balles (compétition sur 2 jours avec 2 formules différentes) \nTél : 05 61 79 03 27
URL:https://www.mairie-luchon.fr/event/competition-de-golf-3/
LOCATION:Golf de Luchon
CATEGORIES:Sport
ATTACH;FMTTYPE=image/png:https://www.mairie-luchon.fr/wp-content/uploads/2025/06/Agenda-juillet-2025-5-COMPETITION-DE-GOLF-2.png
END:VEVENT
BEGIN:VEVENT
DTSTART;VALUE=DATE:20250726
DTEND;VALUE=DATE:20250728
DTSTAMP:20260426T025513
CREATED:20250624T075118Z
LAST-MODIFIED:20250624T081645Z
UID:14768-1753488000-1753660799@www.mairie-luchon.fr
SUMMARY:LA CAMPILARO
DESCRIPTION:SAMEDI\nPrologue : Luchon / Superbagnères – 17\,5km – Les cyclistes se préparent pour une ascension exigeante après le passage du Tour de France. La montée vers Superbagnères est connue pour son panorama remarquable. Départ dans le parc Thermal.\nDIMANCHE\nLuchon / Col de la Croix Blanche – 90 km.\nLa montée du col de Peyresourde et de la Hourquette d’Ancizan\, au départ de la mairie\, offre un défi stimulant aux cyclistes. Les pentes abruptes et les virages serrés exigent une gestion d’effort constante. Le paysage grandiose récompense cependant les courageux qui s’attaquent à ces cols mythiques. \nTél : 06 31 16 44 74
URL:https://www.mairie-luchon.fr/event/la-campilaro/
LOCATION:Parc thermal – Allée d’Etigny
CATEGORIES:Sport
ATTACH;FMTTYPE=image/png:https://www.mairie-luchon.fr/wp-content/uploads/2025/06/Agenda-juillet-2025-40-La-Campilaro.png
END:VEVENT
BEGIN:VEVENT
DTSTART;TZID=Europe/Paris:20250725T180000
DTEND;TZID=Europe/Paris:20250725T210000
DTSTAMP:20260426T025513
CREATED:20250624T074048Z
LAST-MODIFIED:20250624T074048Z
UID:14762-1753466400-1753477200@www.mairie-luchon.fr
SUMMARY:CONCOURS AMICAL DE PÉTANQUE
DESCRIPTION:Concours de pétanque en doublette –  En 4 parties – \nInscriptions sur place à partir de 17h00 – Tél : 06 88 59 33 52 \nCasse-croûte inclus – Buvette.
URL:https://www.mairie-luchon.fr/event/concours-amical-de-petanque-24/
LOCATION:Boulodrome\, Pl. Richelieu\, Bagnères-de-Luchon\, 31110\, France
CATEGORIES:Sport
ATTACH;FMTTYPE=image/png:https://www.mairie-luchon.fr/wp-content/uploads/2025/05/Agenda-juin-2025-2-Concours-de-petanque-a-la-melee.png
END:VEVENT
BEGIN:VEVENT
DTSTART;TZID=Europe/Paris:20250723T150000
DTEND;TZID=Europe/Paris:20250723T193000
DTSTAMP:20260426T025513
CREATED:20250624T073627Z
LAST-MODIFIED:20250624T073627Z
UID:14759-1753282800-1753299000@www.mairie-luchon.fr
SUMMARY:CONCOURS AMICAL DE PÉTANQUE À LA MÊLÉE
DESCRIPTION:Concours en doublette qui se déroule en quatre parties.\nInscriptions sur place – Jet du but à 15h00 – Buvette. \nTél : 06 88 59 33 52
URL:https://www.mairie-luchon.fr/event/concours-amical-de-petanque-a-la-melee-28/
LOCATION:Boulodrome\, Pl. Richelieu\, Bagnères-de-Luchon\, 31110\, France
CATEGORIES:Sport
ATTACH;FMTTYPE=image/png:https://www.mairie-luchon.fr/wp-content/uploads/2024/09/Septembre-2024-14.png
END:VEVENT
BEGIN:VEVENT
DTSTART;VALUE=DATE:20250720
DTEND;VALUE=DATE:20250721
DTSTAMP:20260426T025513
CREATED:20250623T152953Z
LAST-MODIFIED:20250623T152953Z
UID:14738-1752969600-1753055999@www.mairie-luchon.fr
SUMMARY:COMPÉTITION DE GOLF
DESCRIPTION:COUPE DE LA PRÉSIDENTE\nFormule de jeu : Patsome
URL:https://www.mairie-luchon.fr/event/competition-de-golf-2/
LOCATION:Golf de Luchon
CATEGORIES:Sport
ATTACH;FMTTYPE=image/png:https://www.mairie-luchon.fr/wp-content/uploads/2025/06/Agenda-juillet-2025-5-COMPETITION-DE-GOLF-1.png
END:VEVENT
BEGIN:VEVENT
DTSTART;TZID=Europe/Paris:20250716T150000
DTEND;TZID=Europe/Paris:20250716T193000
DTSTAMP:20260426T025513
CREATED:20250623T091059Z
LAST-MODIFIED:20250623T091151Z
UID:14670-1752678000-1752694200@www.mairie-luchon.fr
SUMMARY:CONCOURS AMICAL DE PÉTANQUE À LA MÊLÉE
DESCRIPTION:Concours en doublette qui se déroule en quatre parties.\nInscriptions sur place – Jet du but à 15h00 – Buvette. \nTél : 06 88 59 33 52
URL:https://www.mairie-luchon.fr/event/concours-amical-de-petanque-a-la-melee-27/
LOCATION:Boulodrome\, Pl. Richelieu\, Bagnères-de-Luchon\, 31110\, France
CATEGORIES:Sport
ATTACH;FMTTYPE=image/png:https://www.mairie-luchon.fr/wp-content/uploads/2025/05/Agenda-juin-2025-6-Concours-de-petanque-amical.png
END:VEVENT
BEGIN:VEVENT
DTSTART;TZID=Europe/Paris:20250714T080000
DTEND;TZID=Europe/Paris:20250714T160000
DTSTAMP:20260426T025513
CREATED:20250620T122531Z
LAST-MODIFIED:20250620T122531Z
UID:14636-1752480000-1752508800@www.mairie-luchon.fr
SUMMARY:MONTÉE DE SUPERBAGNÈRES CONTRE-LA-MONTRE
DESCRIPTION:La Cyclosportive « LUCHON-SUPERBAGNÈRES\, Chrono pour Tous » est un événement cycliste chronométré\, avec un départ individuel toute les minutes\, en l’honneur du passage du tour de France le 19 juillet 2025. Cette épreuve se déroulera le lundi 14 juillet 2025\, de 08h00 à 16h00\, entre BAGNÈRES DE LUCHON et la station de SUPERBAGNÈRES. \nInscriptions : https://pyreneeschrono.fr/evenement/chrono-luchon-superbagneres/
URL:https://www.mairie-luchon.fr/event/montee-de-superbagneres-contre-la-montre/
LOCATION:Thermes de Luchon
CATEGORIES:Sport
ATTACH;FMTTYPE=image/png:https://www.mairie-luchon.fr/wp-content/uploads/2025/06/Agenda-juillet-2025-11-Chrono-Luchon-Super.png
END:VEVENT
BEGIN:VEVENT
DTSTART;VALUE=DATE:20250713
DTEND;VALUE=DATE:20250728
DTSTAMP:20260426T025513
CREATED:20250620T120305Z
LAST-MODIFIED:20250620T120305Z
UID:14628-1752364800-1753660799@www.mairie-luchon.fr
SUMMARY:TOURNOI DE TENNIS HOMOLOGUÉ - OPEN
DESCRIPTION:Ouvert à tous les licenciés. Hommes/Dames – Jeunes – Vétérans – Galaxie orange et vert homologué (7/10 ans). \nTél : 06 84 96 94 93
URL:https://www.mairie-luchon.fr/event/tournoi-de-tennis-homologue-open-2/
LOCATION:Complexe de la Pique\, Allée des Bains\, Bagnères-de-Luchon\, 31110\, France
CATEGORIES:Sport
ATTACH;FMTTYPE=image/png:https://www.mairie-luchon.fr/wp-content/uploads/2025/06/Agenda-juillet-2025-9-Tournoi-de-tennis.png
END:VEVENT
BEGIN:VEVENT
DTSTART;VALUE=DATE:20250713
DTEND;VALUE=DATE:20250714
DTSTAMP:20260426T025513
CREATED:20250620T115844Z
LAST-MODIFIED:20250620T115844Z
UID:14626-1752364800-1752451199@www.mairie-luchon.fr
SUMMARY:COMPÉTITION DE GOLF : TROPHÉE JOSÉ TURULL
DESCRIPTION:TROPHÉE JOSÉ TURULL\nFormule de jeu : Scramble à 2 \nTél : 05 61 79 03 27
URL:https://www.mairie-luchon.fr/event/competition-de-golf-trophee-jose-turull/
LOCATION:Golf de Luchon
CATEGORIES:Sport
ATTACH;FMTTYPE=image/png:https://www.mairie-luchon.fr/wp-content/uploads/2025/06/Agenda-juillet-2025-5-COMPETITION-DE-GOLF.png
END:VEVENT
BEGIN:VEVENT
DTSTART;TZID=Europe/Paris:20250711T180000
DTEND;TZID=Europe/Paris:20250711T230000
DTSTAMP:20260426T025513
CREATED:20250620T114216Z
LAST-MODIFIED:20250620T114231Z
UID:14620-1752256800-1752274800@www.mairie-luchon.fr
SUMMARY:CONCOURS AMICAL DE PÉTANQUE
DESCRIPTION:Concours de pétanque en doublette\n– En 4 parties – Inscriptions sur place à partir de 17h00 – Casse-croûte inclus – Buvette. \nTél : 06 88 59 33 52
URL:https://www.mairie-luchon.fr/event/concours-amical-de-petanque-23/
LOCATION:Boulodrome\, Pl. Richelieu\, Bagnères-de-Luchon\, 31110\, France
CATEGORIES:Sport
ATTACH;FMTTYPE=image/png:https://www.mairie-luchon.fr/wp-content/uploads/2025/03/Agenda-avril-15-Concours-amical-de-petanque.png
END:VEVENT
BEGIN:VEVENT
DTSTART;TZID=Europe/Paris:20250709T153000
DTEND;TZID=Europe/Paris:20250709T193000
DTSTAMP:20260426T025513
CREATED:20250620T093218Z
LAST-MODIFIED:20250620T093218Z
UID:14613-1752075000-1752089400@www.mairie-luchon.fr
SUMMARY:CONCOURS AMICAL DE PÉTANQUE À LA MÊLÉE
DESCRIPTION:Concours en doublette qui se déroule en quatre parties.\nInscriptions sur place – Jet du but à 15h00 – Buvette. \nTél : 06 88 59 33 52
URL:https://www.mairie-luchon.fr/event/concours-amical-de-petanque-a-la-melee-26/
LOCATION:Boulodrome\, Pl. Richelieu\, Bagnères-de-Luchon\, 31110\, France
CATEGORIES:Sport
ATTACH;FMTTYPE=image/png:https://www.mairie-luchon.fr/wp-content/uploads/2025/05/Agenda-juin-2025-6-Concours-de-petanque-amical.png
END:VEVENT
BEGIN:VEVENT
DTSTART;VALUE=DATE:20250706
DTEND;VALUE=DATE:20250707
DTSTAMP:20260426T025513
CREATED:20250620T091920Z
LAST-MODIFIED:20250620T091920Z
UID:14605-1751760000-1751846399@www.mairie-luchon.fr
SUMMARY:COMPÉTITION DE GOLF
DESCRIPTION:COUPE DU VAL D’ARAN\nFormule de jeu : Stableford
URL:https://www.mairie-luchon.fr/event/competition-de-golf/
LOCATION:Golf de Luchon
CATEGORIES:Sport
ATTACH;FMTTYPE=image/png:https://www.mairie-luchon.fr/wp-content/uploads/2025/06/Agenda-juillet-2025-5-COMPETITION-DE-GOLF.png
END:VEVENT
BEGIN:VEVENT
DTSTART;VALUE=DATE:20250704
DTEND;VALUE=DATE:20250707
DTSTAMP:20260426T025513
CREATED:20250620T085716Z
LAST-MODIFIED:20250620T085716Z
UID:14592-1751587200-1751846399@www.mairie-luchon.fr
SUMMARY:LUCHON ANETO TRAIL
DESCRIPTION:Évènement majeur du Trail du début de saison le LUCHON ANETO TRAIL PYRÉNÉES c’est 100% nature 100% convivial 100% Pyrénées.\nUn événement sportif qui propose 7 épreuves de trail montagne ainsi qu’un trail pour les enfants dans un environnement splendide et encadré par une équipe de bénévoles aguerris.\nCette année 2025 une nouveauté : Course en Duo sur la Vénasque.\nLes courses se présentent comme suit :\n85 K Ultra Lat 5 300 D+\, 65 K La Route 34 04 4 400 D+\, 45 K La Duonasque 2 800 D+\, 42 K40 Ôo Pyrénées 2 600 D+\, 21K La K\, Bourre 1 300 D+\, 10K La Dika 550 D+\, 2/40 K Lat Challenge et Trail des Oursons.
URL:https://www.mairie-luchon.fr/event/luchon-aneto-trail-2/
LOCATION:Casino\, Pl. Richelieu\, Bagnères-de-Luchon\, 31110\, France
CATEGORIES:Sport
ATTACH;FMTTYPE=image/png:https://www.mairie-luchon.fr/wp-content/uploads/2025/06/Agenda-juillet-2025-2-luchon-aneto-trail.png
END:VEVENT
BEGIN:VEVENT
DTSTART;TZID=Europe/Paris:20250702T150000
DTEND;TZID=Europe/Paris:20250702T200000
DTSTAMP:20260426T025513
CREATED:20250620T084640Z
LAST-MODIFIED:20250620T084640Z
UID:14590-1751468400-1751486400@www.mairie-luchon.fr
SUMMARY:CONCOURS AMICAL DE PÉTANQUE À LA MÊLÉE
DESCRIPTION:Concours en doublette qui se déroule en quatre parties.\nInscriptions sur place – Jet du but à 15h00 – Buvette. \nTél : 06 88 59 33 52
URL:https://www.mairie-luchon.fr/event/concours-amical-de-petanque-a-la-melee-25/
LOCATION:Boulodrome\, Pl. Richelieu\, Bagnères-de-Luchon\, 31110\, France
CATEGORIES:Sport
ATTACH;FMTTYPE=image/png:https://www.mairie-luchon.fr/wp-content/uploads/2025/05/Agenda-juin-2025-2-Concours-de-petanque-a-la-melee.png
END:VEVENT
BEGIN:VEVENT
DTSTART;VALUE=DATE:20250628
DTEND;VALUE=DATE:20250630
DTSTAMP:20260426T025513
CREATED:20250527T124601Z
LAST-MODIFIED:20250527T124601Z
UID:14410-1751068800-1751241599@www.mairie-luchon.fr
SUMMARY:CHALLENGE ÉRIC BÉCHU
DESCRIPTION:Tournoi en hommage à Éric Béchu – Catégorie M12 (10/11 ans) avec les équipes de Montpellier\, Toulouse\, Colomiers\, Saint-Girons et Terroir 11 qui va rassembler 200 jeunes avec un classement final. \nTél : 06 20 66 33 10
URL:https://www.mairie-luchon.fr/event/challenge-eric-bechu/
LOCATION:Stade du Lycée\, Rue Ramon\, Bagnères-de-Luchon\, 31110\, France
CATEGORIES:Sport
ATTACH;FMTTYPE=image/png:https://www.mairie-luchon.fr/wp-content/uploads/2025/05/Agenda-juin-2025-17-Concours-de-petanque-amical.png
END:VEVENT
BEGIN:VEVENT
DTSTART;TZID=Europe/Paris:20250627T180000
DTEND;TZID=Europe/Paris:20250627T213000
DTSTAMP:20260426T025513
CREATED:20250527T123340Z
LAST-MODIFIED:20250527T123340Z
UID:14404-1751047200-1751059800@www.mairie-luchon.fr
SUMMARY:CONCOURS AMICAL DE PÉTANQUE
DESCRIPTION:Concours de pétanque en doublette – En 4 parties – Inscriptions sur place à partir de 17h00 – Casse-croûte inclus – Buvette. \nTél : 06 88 59 33 52
URL:https://www.mairie-luchon.fr/event/concours-amical-de-petanque-22/
LOCATION:Boulodrome\, Pl. Richelieu\, Bagnères-de-Luchon\, 31110\, France
CATEGORIES:Sport
ATTACH;FMTTYPE=image/png:https://www.mairie-luchon.fr/wp-content/uploads/2025/05/Agenda-juin-2025-6-Concours-de-petanque-amical.png
END:VEVENT
BEGIN:VEVENT
DTSTART;TZID=Europe/Paris:20250625T150000
DTEND;TZID=Europe/Paris:20250625T190000
DTSTAMP:20260426T025513
CREATED:20250527T123008Z
LAST-MODIFIED:20250527T123008Z
UID:14402-1750863600-1750878000@www.mairie-luchon.fr
SUMMARY:CONCOURS AMICAL DE PÉTANQUE À LA MÊLÉE
DESCRIPTION:Concours en doublette qui se déroule en quatre parties.\nInscriptions sur place – Jet du but à 15h00 – Buvette. \nTél : 06 88 59 33 52
URL:https://www.mairie-luchon.fr/event/concours-amical-de-petanque-a-la-melee-24/
LOCATION:Boulodrome\, Pl. Richelieu\, Bagnères-de-Luchon\, 31110\, France
CATEGORIES:Sport
ATTACH;FMTTYPE=image/png:https://www.mairie-luchon.fr/wp-content/uploads/2025/05/Agenda-juin-2025-2-Concours-de-petanque-a-la-melee.png
END:VEVENT
BEGIN:VEVENT
DTSTART;TZID=Europe/Paris:20250622T090000
DTEND;TZID=Europe/Paris:20250622T170000
DTSTAMP:20260426T025513
CREATED:20250527T093857Z
LAST-MODIFIED:20250527T093857Z
UID:14389-1750582800-1750611600@www.mairie-luchon.fr
SUMMARY:CENTRE ÉQUESTRE
DESCRIPTION:Concours de sauts d’obstacles\, buvette et restauration sur place. \nTél : 06 25 93 77 52 – 06 32 07 45 71
URL:https://www.mairie-luchon.fr/event/centre-equestre/
LOCATION:Centre équestre\, Bagnères de Luchon\, 31110\, France
CATEGORIES:Sport
ATTACH;FMTTYPE=image/png:https://www.mairie-luchon.fr/wp-content/uploads/2025/05/Agenda-juin-2025-11-Concours-de-petanque-amical.png
END:VEVENT
BEGIN:VEVENT
DTSTART;TZID=Europe/Paris:20250621T150000
DTEND;TZID=Europe/Paris:20250621T180000
DTSTAMP:20260426T025513
CREATED:20250620T094801Z
LAST-MODIFIED:20250620T095349Z
UID:14617-1750518000-1750528800@www.mairie-luchon.fr
SUMMARY:PRESENTATION DE GRAND CHISTERA PAR LES GLOBETROTTERS
DESCRIPTION:Présentation de Grand Chistera par les « GlobeTrotters »
URL:https://www.mairie-luchon.fr/event/presentation-de-grand-chistera-par-les-globetrotters/
LOCATION:Fronton\, Bagnères de Luchon\, Haute-Garonne\, 31110\, France
CATEGORIES:Sport
ATTACH;FMTTYPE=image/png:https://www.mairie-luchon.fr/wp-content/uploads/2024/09/Septembre-2024-10.png
END:VEVENT
BEGIN:VEVENT
DTSTART;TZID=Europe/Paris:20250621T143000
DTEND;TZID=Europe/Paris:20250621T170000
DTSTAMP:20260426T025513
CREATED:20250527T093549Z
LAST-MODIFIED:20250527T093549Z
UID:14384-1750516200-1750525200@www.mairie-luchon.fr
SUMMARY:JOURNÉE PORTES OUVERTES CENTRE ÉQUESTRE
DESCRIPTION:• Visite des installations\n• Atelier pansage\n• Balade initiation poney\n• Présentation d’un carrousel\n• Buvette \nTél : 06 25 93 77 52 – 06 32 07 45 71
URL:https://www.mairie-luchon.fr/event/journee-portes-ouvertes-centre-equestre-2/
LOCATION:Centre équestre\, Bagnères de Luchon\, 31110\, France
CATEGORIES:Sport
ATTACH;FMTTYPE=image/jpeg:https://www.mairie-luchon.fr/wp-content/uploads/2024/02/centre-equestre-luchon.jpg
END:VEVENT
BEGIN:VEVENT
DTSTART;TZID=Europe/Paris:20250618T150000
DTEND;TZID=Europe/Paris:20250618T190000
DTSTAMP:20260426T025513
CREATED:20250527T064700Z
LAST-MODIFIED:20250527T064700Z
UID:14366-1750258800-1750273200@www.mairie-luchon.fr
SUMMARY:CONCOURS AMICAL DE PÉTANQUE À LA MÊLÉE
DESCRIPTION:Concours en doublette qui se déroule en quatre parties.\nInscriptions sur place – Jet du but à 15h00 – Buvette. \nTél : 06 88 59 33 52
URL:https://www.mairie-luchon.fr/event/concours-amical-de-petanque-a-la-melee-23/
LOCATION:Boulodrome\, Pl. Richelieu\, Bagnères-de-Luchon\, 31110\, France
CATEGORIES:Sport
ATTACH;FMTTYPE=image/png:https://www.mairie-luchon.fr/wp-content/uploads/2024/09/Septembre-2024-22.png
END:VEVENT
BEGIN:VEVENT
DTSTART;TZID=Europe/Paris:20250614T090000
DTEND;TZID=Europe/Paris:20250614T123000
DTSTAMP:20260426T025513
CREATED:20250527T061802Z
LAST-MODIFIED:20250527T064821Z
UID:14354-1749891600-1749904200@www.mairie-luchon.fr
SUMMARY:4ème ÉDITION TRIATHLON DE LUCHON
DESCRIPTION:Après le succès de la troisième édition\, nous vous donnons rendez-vous le samedi 14 juin au lac de Badech pour un départ à 9h15.  \nNouveau parcours vélo et course à pied. L’arrivée sera située à l’entrée du parc Thermal.\nDeux distances : Un format Half et une courte distance. \nInscriptions et renseignements : www.triathlondeluchon.com \nTél : 06 75 85 19 09 \n 
URL:https://www.mairie-luchon.fr/event/4eme-edition-triathlon-de-luchon/
LOCATION:Lac de Badech\, Bagnères de Luchon\, 31110\, France
CATEGORIES:Sport
ATTACH;FMTTYPE=image/png:https://www.mairie-luchon.fr/wp-content/uploads/2025/05/Agenda-juin-2025-7-Concours-de-petanque-amical.png
END:VEVENT
BEGIN:VEVENT
DTSTART;TZID=Europe/Paris:20250613T180000
DTEND;TZID=Europe/Paris:20250613T210000
DTSTAMP:20260426T025513
CREATED:20250527T060846Z
LAST-MODIFIED:20250527T060846Z
UID:14352-1749837600-1749848400@www.mairie-luchon.fr
SUMMARY:CONCOURS AMICAL DE PÉTANQUE
DESCRIPTION:Concours de pétanque en doublette – En 4 parties – Inscriptions sur place à partir de 17h00 – Casse-croûte inclus – Buvette. \nTél : 06 88 59 33 52
URL:https://www.mairie-luchon.fr/event/concours-amical-de-petanque-21/
LOCATION:Boulodrome\, Pl. Richelieu\, Bagnères-de-Luchon\, 31110\, France
CATEGORIES:Sport
ATTACH;FMTTYPE=image/png:https://www.mairie-luchon.fr/wp-content/uploads/2025/05/Agenda-juin-2025-2-Concours-de-petanque-a-la-melee.png
END:VEVENT
BEGIN:VEVENT
DTSTART;TZID=Europe/Paris:20250611T150000
DTEND;TZID=Europe/Paris:20250611T190000
DTSTAMP:20260426T025513
CREATED:20250526T152029Z
LAST-MODIFIED:20250526T152029Z
UID:14344-1749654000-1749668400@www.mairie-luchon.fr
SUMMARY:CONCOURS AMICAL DE PÉTANQUE  À LA MÊLÉE
DESCRIPTION:Concours en doublette qui se déroule en quatre parties. \nInscriptions sur place –  Adultes – Tél : 06 88 59 33 52 \nJet du but à 15h00 – Buvette.
URL:https://www.mairie-luchon.fr/event/concours-amical-de-petanque-a-la-melee-22/
LOCATION:Boulodrome\, Pl. Richelieu\, Bagnères-de-Luchon\, 31110\, France
CATEGORIES:Sport
ATTACH;FMTTYPE=image/png:https://www.mairie-luchon.fr/wp-content/uploads/2025/05/Agenda-juin-2025-6-Concours-de-petanque-amical.png
END:VEVENT
BEGIN:VEVENT
DTSTART;TZID=Europe/Paris:20250604T150000
DTEND;TZID=Europe/Paris:20250604T190000
DTSTAMP:20260426T025513
CREATED:20250526T150136Z
LAST-MODIFIED:20250526T150843Z
UID:14336-1749049200-1749063600@www.mairie-luchon.fr
SUMMARY:CONCOURS AMICAL DE PÉTANQUE  À LA MÊLÉE
DESCRIPTION:Concours en doublette qui se déroule en quatre parties. \nInscriptions sur place –  06 88 59 33 52 – Jet du but à 15h00 – Adultes \nBuvette.
URL:https://www.mairie-luchon.fr/event/concours-amical-de-petanque-a-la-melee-21/
LOCATION:Boulodrome\, Pl. Richelieu\, Bagnères-de-Luchon\, 31110\, France
CATEGORIES:Sport
ATTACH;FMTTYPE=image/png:https://www.mairie-luchon.fr/wp-content/uploads/2025/05/Agenda-juin-2025-2-Concours-de-petanque-a-la-melee.png
END:VEVENT
BEGIN:VEVENT
DTSTART;VALUE=DATE:20250601
DTEND;VALUE=DATE:20250602
DTSTAMP:20260426T025513
CREATED:20250521T095925Z
LAST-MODIFIED:20250521T114318Z
UID:14302-1748736000-1748822399@www.mairie-luchon.fr
SUMMARY:LA LAPEBIE
DESCRIPTION:La Lapébie est une cyclosportive pyrénéenne emblématique\, organisée chaque année à Bagnères-de-Luchon. Elle rend hommage à Roger Lapébie\, vainqueur du Tour de France 1937\, et à sa famille. L’épreuve propose deux parcours de 92 à 128 km\, avec des cols mythiques comme le Menté ou le port de Balès. Accessible aux amateurs comme aux passionnés\, elle mêle performance et convivialité. Un village exposants\, des animations et des trophées spéciaux complètent l’événement. La Lapébie est une fête du vélo au cœur des montagnes.
URL:https://www.mairie-luchon.fr/event/la-lapebie-2/
LOCATION:Casino\, Pl. Richelieu\, Bagnères-de-Luchon\, 31110\, France
CATEGORIES:Sport
ATTACH;FMTTYPE=image/png:https://www.mairie-luchon.fr/wp-content/uploads/2025/05/Agenda-juin-2025-1-La-Lapebie.png
END:VEVENT
END:VCALENDAR